BEGIN:VCALENDAR
VERSION:2.0
PRODID:-//ChamberMaster//Event Calendar 2.0//EN
METHOD:PUBLISH
X-PUBLISHED-TTL:P3D
REFRESH-INTERVAL:P3D
CALSCALE:GREGORIAN
BEGIN:VEVENT
DTSTART:20201125T000000Z
DTEND:20201125T020000Z
X-MICROSOFT-CDO-ALLDAYEVENT:FALSE
SUMMARY:Elk Rapids Planning Commission Meeting
DESCRIPTION:Agenda:https://www.elkrapids.org/wp-content/uploads/2020/11/November-24-PC-Packet.pdf
X-ALT-DESC;FMTTYPE=text/html:Agenda:<a href="https://www.elkrapids.org/wp-content/uploads/2020/11/November-24-PC-Packet.pdf">https://www.elkrapids.org/wp-content/uploads/2020/11/November-24-PC-Packet.pdf</a>
LOCATION:Elk Rapids Government Center (315 Bridge St.\, Elk Rapids\, MI 49629).
UID:e.2409.4235
SEQUENCE:3
DTSTAMP:20260422T013129Z
URL:https://business.elkrapidschamber.org/events/details/elk-rapids-planning-commission-meeting-11-24-2020-4235
END:VEVENT

END:VCALENDAR
