BEGIN:VCALENDAR
VERSION:2.0
PRODID:-//ChamberMaster//Event Calendar 2.0//EN
METHOD:PUBLISH
X-PUBLISHED-TTL:P3D
REFRESH-INTERVAL:P3D
CALSCALE:GREGORIAN
BEGIN:VEVENT
DTSTART:20201027T230000Z
DTEND:20201028T010000Z
X-MICROSOFT-CDO-ALLDAYEVENT:FALSE
SUMMARY:Elk Rapids Planning Commission Meeting
DESCRIPTION:https://www.elkrapids.org/wp-content/uploads/2020/10/October_PC_PACKET-FINAL.pdf
X-ALT-DESC;FMTTYPE=text/html:<a href="https://www.elkrapids.org/wp-content/uploads/2020/10/October_PC_PACKET-FINAL.pdf">https://www.elkrapids.org/wp-content/uploads/2020/10/October_PC_PACKET-FINAL.pdf</a>
LOCATION:via Zoom see agenda for instructions
UID:e.2409.4234
SEQUENCE:3
DTSTAMP:20260422T025515Z
URL:https://business.elkrapidschamber.org/events/details/elk-rapids-planning-commission-meeting-10-27-2020-4234
END:VEVENT

END:VCALENDAR
