BEGIN:VCALENDAR
VERSION:2.0
PRODID:-//ChamberMaster//Event Calendar 2.0//EN
METHOD:PUBLISH
X-PUBLISHED-TTL:P3D
REFRESH-INTERVAL:P3D
CALSCALE:GREGORIAN
BEGIN:VEVENT
DTSTART:20210224T000000Z
DTEND:20210224T020000Z
X-MICROSOFT-CDO-ALLDAYEVENT:FALSE
SUMMARY:Elk Rapids Planning Commission Meeting
DESCRIPTION:Agenda and Zoom Instructions
X-ALT-DESC;FMTTYPE=text/html:<a href="https://www.elkrapids.org/wp-content/uploads/2021/02/Packet-2-23-21.pdf">Agenda and Zoom Instructions</a>
LOCATION:Virtual
UID:e.2409.4238
SEQUENCE:3
DTSTAMP:20260421T205753Z
URL:https://business.elkrapidschamber.org/events/details/elk-rapids-planning-commission-meeting-02-23-2021-4238
END:VEVENT

END:VCALENDAR
