BEGIN:VCALENDAR
VERSION:2.0
PRODID:-//ChamberMaster//Event Calendar 2.0//EN
METHOD:PUBLISH
X-PUBLISHED-TTL:P3D
REFRESH-INTERVAL:P3D
CALSCALE:GREGORIAN
BEGIN:VEVENT
DTSTART;VALUE=DATE:20220516
DTEND;VALUE=DATE:20220521
TRANSP:TRANSPARENT
X-MICROSOFT-CDO-ALLDAYEVENT:TRUE
SUMMARY:Elk Rapids One Time Leaf Pickup
DESCRIPTION:The Village will be having a one-time leaf pick-up the week of May 16\, 2022. Some additional info:\n\nThe service will begin on the east side of town and move west.\n\n\n\nThis is a residential service only. Excluded from pick-up are private streets and and commercial enterprises.\n\nLeaves must be piled NEATLY by the shoulder of the street.\n\nDo not place leaves in bags.\n\nNO ALLEY PICKUPS.\n\nNo pickup of leaves that have been power broomed or collected & dumped at the curb.\n\nRESTRICTED: LEAVES WILL NOT BE PICKED UP IF ANY OF THE FOLLOWING ARE MIXED IN: brush/branches\, trash/garbage\, construction materials.
X-ALT-DESC;FMTTYPE=text/html:The Village will be having a one-time leaf pick-up the week of May 16\, 2022. Some additional info:<br />\nThe service will begin on the east side of town and move west.<br />\n<br />\nThis is a residential service only. Excluded from pick-up are private streets and and commercial enterprises.<br />\nLeaves must be piled NEATLY by the shoulder of the street.<br />\nDo not place leaves in bags.<br />\nNO ALLEY PICKUPS.<br />\nNo pickup of leaves that have been power broomed or collected &amp\; dumped at the curb.<br />\nRESTRICTED: LEAVES WILL NOT BE PICKED UP IF ANY OF THE FOLLOWING ARE MIXED IN: brush/branches\, trash/garbage\, construction materials.
LOCATION:
UID:e.2409.30286
SEQUENCE:3
DTSTAMP:20260420T202307Z
URL:https://business.elkrapidschamber.org/events/details/elk-rapids-one-time-leaf-pickup-30286
END:VEVENT

END:VCALENDAR
