BEGIN:VCALENDAR
VERSION:2.0
PRODID:-//ChamberMaster//Event Calendar 2.0//EN
METHOD:PUBLISH
X-PUBLISHED-TTL:P3D
REFRESH-INTERVAL:P3D
CALSCALE:GREGORIAN
BEGIN:VEVENT
DTSTART:20230523T163000Z
DTEND:20230523T180000Z
X-MICROSOFT-CDO-ALLDAYEVENT:FALSE
SUMMARY:Elk Rapids Garden Club Meeting-Bird Migration in Northern Michigan
DESCRIPTION:May 23         Kirk Waterstripe     Bird Migration in Northern Michigan\n\nAt Elk Rapids Harbor Marina\; 12:30 p.m.\n\nKirk Waterstripe is the science lab manager at Northwest Michigan College\, a very enthusiastic and engaged birder\, and an active member of the Grand Traverse Audubon Club. Kirk is coming to enlighten us about the incredible bird migrations happening at this time of year over Northern Michigan.\n\n \n\nJune 27         Dave Bos               Biodynamic Wines  \n\nAt Elk Rapids Harbor Marina\; 12:30 p.m.\n\n \n\nJuly 18        Garden Walk            Celebrate Water: Keep it Blue\n\n \n\nJuly 25           Angie Bouma        "Ferntastic"\n\n  At First Presbyterian Church\; 12:30 p.m.\n\n \n\nAugust 22    Lauren Dey             Water Quality and What it Means\n\nAt Elk Rapids Harbor Marina\; 12:30 p.m.\n\n \n\nSeptember 26         Robyn Shank                                                                      Our Town's Gardens Nurtured by the Elk Rapids Garden Club \n\nAt Elk Rapids Harbor Marina\; 11:30 a.m.\n\n \n\nOctober 24              Lindsey Bona-Eggeman      Plant This Not That\n\nAt First Presbyterian Church of Elk Rapids\; 12:30 p.m.
X-ALT-DESC;FMTTYPE=text/html:<strong><span style="font-size:14.0pt\;">May 23&nbsp\;&nbsp\;&nbsp\;&nbsp\;&nbsp\;&nbsp\;&nbsp\;&nbsp\; Kirk Waterstripe&nbsp\;&nbsp\; &nbsp\; Bird Migration in Northern Michigan</span></strong><br />\n<strong>At Elk Rapids Harbor Marina\; 12:30 p.m.</strong><br />\n<span style="color:#000000\;"><span style="font-family: &quot\;Open Sans&quot\;\, Arial\, sans-serif\; font-size: 14px\; background-color: rgb(255\, 255\, 255)\;">Kirk Waterstripe is the science lab manager at Northwest Michigan College\, a very enthusiastic and engaged birder\, and an active member of the Grand Traverse Audubon Club. Kirk is coming to enlighten us about the incredible bird migrations happening at this time of year over Northern Michigan.</span></span><br />\n&nbsp\;<br />\n<strong><span style="font-size:14.0pt\;">June 27&nbsp\;&nbsp\;&nbsp\;&nbsp\;&nbsp\;&nbsp\;&nbsp\;&nbsp\; Dave Bos&nbsp\; &nbsp\; &nbsp\; &nbsp\; &nbsp\; &nbsp\; &nbsp\; &nbsp\;Biodynamic Wines&nbsp\; </span></strong><br />\n<strong>At Elk Rapids Harbor Marina\; 12:30 p.m.</strong><br />\n&nbsp\;<br />\n<strong><span style="font-size:14.0pt\;">July 18&nbsp\;&nbsp\;&nbsp\;&nbsp\;&nbsp\;&nbsp\;&nbsp\; Garden Walk&nbsp\; &nbsp\; &nbsp\; &nbsp\; &nbsp\; &nbsp\; Celebrate Water: Keep it Blue</span></strong><br />\n&nbsp\;<br />\n<strong><span style="font-size:14.0pt\;">July 25&nbsp\;&nbsp\;&nbsp\;&nbsp\;&nbsp\;&nbsp\;&nbsp\;&nbsp\;&nbsp\;&nbsp\; Angie Bouma&nbsp\; &nbsp\; &nbsp\; &nbsp\; &ldquo\;Ferntastic&rdquo\;</span></strong><br />\n&nbsp\; <strong>At First Presbyterian Church\; 12:30 p.m.</strong><br />\n&nbsp\;<br />\n<strong><span style="font-size:14.0pt\;">August 22&nbsp\;&nbsp\;&nbsp\; Lauren Dey&nbsp\; &nbsp\; &nbsp\; &nbsp\; &nbsp\; &nbsp\; &nbsp\;Water Quality and What it Means</span></strong><br />\n<strong>At Elk Rapids Harbor Marina\; 12:30 p.m.</strong><br />\n&nbsp\;<br />\n<strong><span style="color:black\;"><span style="font-size:14.0pt\;">September 26&nbsp\;&nbsp\;&nbsp\; &nbsp\;&nbsp\;&nbsp\;&nbsp\; Robyn Shank&nbsp\; &nbsp\; &nbsp\; &nbsp\; &nbsp\; &nbsp\; &nbsp\; &nbsp\; &nbsp\; &nbsp\; &nbsp\; &nbsp\; &nbsp\; &nbsp\; &nbsp\; &nbsp\; &nbsp\; &nbsp\; &nbsp\; &nbsp\; &nbsp\; &nbsp\; &nbsp\; &nbsp\; &nbsp\; &nbsp\; &nbsp\; &nbsp\; &nbsp\; &nbsp\; &nbsp\; &nbsp\; &nbsp\; &nbsp\; &nbsp\; Our Town&rsquo\;s Gardens Nurtured by the Elk Rapids Garden Club </span></span></strong><br />\n<strong>At Elk Rapids Harbor Marina\; 11:30 a.m.</strong><br />\n&nbsp\;<br />\n<strong><span style="font-size:14.0pt\;">October 24&nbsp\;&nbsp\;&nbsp\;&nbsp\;&nbsp\;&nbsp\;&nbsp\;&nbsp\;&nbsp\;&nbsp\;&nbsp\;&nbsp\;&nbsp\; Lindsey Bona-Eggeman&nbsp\; &nbsp\; &nbsp\; Plant This Not That</span></strong><br />\n<strong>At First Presbyterian Church of Elk Rapids\; 12:30 p.m.</strong>
LOCATION:Elk Rapids Harbor Pavilion Isle of Pines Elk Rapids
UID:e.2409.36408
SEQUENCE:3
DTSTAMP:20260420T035454Z
URL:https://business.elkrapidschamber.org/events/details/elk-rapids-garden-club-meeting-bird-migration-in-northern-michigan-36408
END:VEVENT

END:VCALENDAR
