BEGIN:VCALENDAR
VERSION:2.0
PRODID:-//ChamberMaster//Event Calendar 2.0//EN
METHOD:PUBLISH
X-PUBLISHED-TTL:P3D
REFRESH-INTERVAL:P3D
CALSCALE:GREGORIAN
BEGIN:VEVENT
DTSTART:20220927T163000Z
DTEND:20220927T183000Z
X-MICROSOFT-CDO-ALLDAYEVENT:FALSE
SUMMARY:Elk Rapids Garden Club Meeting
DESCRIPTION:September 27th: The Connection of Food to Health\n\n\n\n\n\nDevin Moore is the Education and Outreach Coordinator of Oryana Community Co-op. With degrees in Community Health\, nutrition\, and yoga instruction\, she provides nutrition and environmental-based education with the goal of helping others to be healthier nutritionally\, physically\, and mentally. Devin will also discuss ways to become a more confident label reader and how to eat healthy on a budget.\n\nLOCATION: Elk Rapids Harbor Pavilion
X-ALT-DESC;FMTTYPE=text/html:<div class="et_pb_module et_pb_text et_pb_text_17  et_pb_text_align_left et_pb_bg_layout_light" style="box-sizing: border-box\; margin: 0px 0px 29.6875px\; padding: 0px\; border: 0px\; outline: 0px\; font-size: 14px\; text-size-adjust: 100%\; vertical-align: baseline\; background: 50% center / cover no-repeat rgb(255\, 255\, 255)\; position: relative\; animation-timing-function: linear\; animation-duration: 0.2s\; overflow-wrap: break-word\; color: rgb(102\, 102\, 102)\; font-family: &quot\;Open Sans&quot\;\, Arial\, sans-serif\;">\n<div class="et_pb_text_inner" style="box-sizing: border-box\; margin: 0px\; padding: 0px\; border: 0px\; outline: 0px\; text-size-adjust: 100%\; vertical-align: baseline\; background: transparent\; position: relative\;">\n<h3 style="box-sizing: border-box\; margin: 0px\; padding: 0px 0px 10px\; border: 0px\; outline: 0px\; font-size: 22px\; text-size-adjust: 100%\; vertical-align: baseline\; background: transparent\; color: rgb(51\, 51\, 51)\; line-height: 1em\; font-weight: 500\;">September 27th: The Connection of Food to Health</h3>\n</div>\n</div>\n\n<div class="et_pb_module et_pb_text et_pb_text_18  et_pb_text_align_left et_pb_bg_layout_light" style="box-sizing: border-box\; margin: 0px\; padding: 0px\; border: 0px\; outline: 0px\; font-size: 14px\; text-size-adjust: 100%\; vertical-align: baseline\; background: 50% center / cover no-repeat rgb(255\, 255\, 255)\; position: relative\; animation-timing-function: linear\; animation-duration: 0.2s\; overflow-wrap: break-word\; color: rgb(102\, 102\, 102)\; font-family: &quot\;Open Sans&quot\;\, Arial\, sans-serif\;">\n<div class="et_pb_text_inner" style="box-sizing: border-box\; margin: 0px\; padding: 0px\; border: 0px\; outline: 0px\; text-size-adjust: 100%\; vertical-align: baseline\; background: transparent\; position: relative\;">\n<p style="box-sizing: border-box\; margin: 0px\; padding: 0px 0px 1em\; border: 0px\; outline: 0px\; text-size-adjust: 100%\; vertical-align: baseline\; background: transparent\;">Devin Moore is the Education and Outreach Coordinator of Oryana Community Co-op. With degrees in Community Health\, nutrition\, and yoga instruction\, she provides nutrition and environmental-based education with the goal of helping others to be healthier nutritionally\, physically\, and mentally. Devin will also discuss ways to become a more confident label reader and how to eat healthy on a budget.</p>\n\n<p style="box-sizing: border-box\; margin: 0px\; padding: 0px\; border: 0px\; outline: 0px\; text-size-adjust: 100%\; vertical-align: baseline\; background: transparent\;"><span style="box-sizing: border-box\; margin: 0px\; padding: 0px\; border: 0px\; outline: 0px\; text-size-adjust: 100%\; vertical-align: baseline\; background: transparent\; font-weight: 700\;">LOCATION:</span>&nbsp\;<a href="https://goo.gl/maps/GfzoWkPZjFW278ZB9" rel="noopener" style="box-sizing: border-box\; margin: 0px\; padding: 0px\; border: 0px\; outline: 0px\; text-size-adjust: 100%\; vertical-align: baseline\; background: transparent\; color: rgb(46\, 163\, 242)\; text-decoration-line: none\;" target="_blank">Elk Rapids Harbor Pavilion</a></p>\n</div>\n</div>\n
LOCATION:
UID:e.2409.32862
SEQUENCE:3
DTSTAMP:20260420T142450Z
URL:https://business.elkrapidschamber.org/events/details/elk-rapids-garden-club-meeting-32862
END:VEVENT

END:VCALENDAR
