BEGIN:VCALENDAR
VERSION:2.0
PRODID:-//ChamberMaster//Event Calendar 2.0//EN
METHOD:PUBLISH
X-PUBLISHED-TTL:P3D
REFRESH-INTERVAL:P3D
CALSCALE:GREGORIAN
BEGIN:VEVENT
DTSTART:20210525T163000Z
DTEND:20210525T180000Z
X-MICROSOFT-CDO-ALLDAYEVENT:FALSE
SUMMARY:Elk Rapids Garden Club Meeting
DESCRIPTION:Dow Gardens \n\nChuck Martin\, Dow Gardens  \n\nChuck Martin is the Whiting Forest of Dow Gardens Senior Horticulturist/Grounds Manager  Chuck is passionate about the rain garden system he developed at Dow Gardens.  He will discuss the history and design of the various gardens and areas (gardens\, forest and orchard) throughout the campus.
X-ALT-DESC;FMTTYPE=text/html:<strong><u><span style="font-family:arial\,sans-serif\;"><span style="font-size:12.0pt\;">Dow Gardens</span></span></u></strong><span style="font-family:arial\,sans-serif\;"><span style="font-size:12.0pt\;">&nbsp\;<br />\n<strong>Chuck Martin\, Dow Gardens</strong>&nbsp\; </span></span><br />\n<span style="font-family:arial\,sans-serif\;"><span style="font-size:12.0pt\;">Chuck Martin is the Whiting Forest of Dow Gardens Senior Horticulturist/Grounds Manager&nbsp\; Chuck is passionate about the rain garden system he developed at Dow Gardens.&nbsp\; He will discuss the history and design of the various gardens and areas (gardens\, forest and orchard) throughout the campus.</span></span>
LOCATION:2021 meetings will occur by Zoom (link available at www.elkrapidsgardenclub.com). When Michigan pandemic-related restrictions allow in-person meetings of the full membership\, the meeting locations will also be posted on the web site.
UID:e.2409.25963
SEQUENCE:3
DTSTAMP:20260421T161808Z
URL:https://business.elkrapidschamber.org/events/details/elk-rapids-garden-club-meeting-25963
END:VEVENT

END:VCALENDAR
