BEGIN:VCALENDAR
VERSION:2.0
PRODID:-//ChamberMaster//Event Calendar 2.0//EN
METHOD:PUBLISH
X-PUBLISHED-TTL:P3D
REFRESH-INTERVAL:P3D
CALSCALE:GREGORIAN
BEGIN:VEVENT
DTSTART:20210427T163000Z
DTEND:20210427T180000Z
X-MICROSOFT-CDO-ALLDAYEVENT:FALSE
SUMMARY:Elk Rapids Garden Club Meeting
DESCRIPTION:Tips for Your Garden  \n\nJeanine Rubert\, Pine Hill Village Gardens  \n\nJeanine Rubert always has valuable gardening advice. She will help us understand the "what\, when and how" of fertilizing our gardens\, planters and baskets. Want to combine vegetables and flowers for a new gardening look? She has ideas. You have questions\, she will have the answers.
X-ALT-DESC;FMTTYPE=text/html:<strong><u><span style="font-family:arial\,sans-serif\;"><span style="font-size:12.0pt\;">Tips for Your Garden</span></span></u></strong><strong><span style="font-family:arial\,sans-serif\;"><span style="font-size:12.0pt\;"> &nbsp\;</span></span></strong><br />\n<strong><span style="font-family:arial\,sans-serif\;"><span style="font-size:12.0pt\;">Jeanine Rubert\, Pine Hill Village Gardens&nbsp\; </span></span></strong><br />\n<span style="font-family:arial\,sans-serif\;"><span style="font-size:12.0pt\;">Jeanine Rubert always has valuable gardening advice. She will help us understand the &ldquo\;what\, when and how&rdquo\; of fertilizing our gardens\, planters and baskets. Want to combine vegetables and flowers for a new gardening look? She has ideas. You have questions\, she will have the answers.&nbsp\; </span></span>
LOCATION:2021 meetings will occur by Zoom (link available at www.elkrapidsgardenclub.com). When Michigan pandemic-related restrictions allow in-person meetings of the full membership\, the meeting locations will also be posted on the web site.
UID:e.2409.25962
SEQUENCE:3
DTSTAMP:20260421T181115Z
URL:https://business.elkrapidschamber.org/events/details/elk-rapids-garden-club-meeting-25962
END:VEVENT

END:VCALENDAR
