BEGIN:VCALENDAR
VERSION:2.0
PRODID:-//ChamberMaster//Event Calendar 2.0//EN
METHOD:PUBLISH
X-PUBLISHED-TTL:P3D
REFRESH-INTERVAL:P3D
CALSCALE:GREGORIAN
BEGIN:VEVENT
DTSTART:20200825T163000Z
DTEND:20200825T180000Z
X-MICROSOFT-CDO-ALLDAYEVENT:FALSE
SUMMARY:Elk Rapids Garden Club Meeting
DESCRIPTION:August 25th: Green Infrastructure Project in Elk Rapids\n\n\n\n\n\n\n\n\nSarah U'Ren\, Program Director at The Watershed Center of Grand Traverse Bay\, will explain the goals of the Green Infrastructure Stormwater Project in Elk Rapids. We will learn the details for protecting the Grand Traverse Bay from pollutants and stormwater runoff from various locations in Elk Rapids.\n\nHostesses: Char Brady*\, Sarah Peck\, Eddie Hubbell and Judy Oswald
X-ALT-DESC;FMTTYPE=text/html:<div class="et_pb_module et_pb_text et_pb_text_15  et_pb_text_align_left et_pb_bg_layout_light" style="box-sizing: border-box\; margin: 0px 0px 29.7px\; padding: 0px\; border: 0px\; outline: 0px\; font-size: 14px\; text-size-adjust: 100%\; vertical-align: baseline\; background: 50% center / cover no-repeat rgb(255\, 255\, 255)\; overflow-wrap: break-word\; animation-timing-function: linear\; animation-duration: 0.2s\; color: rgb(102\, 102\, 102)\; font-family: &quot\;Open Sans&quot\;\, Arial\, sans-serif\;">\n<div class="et_pb_text_inner" style="box-sizing: border-box\; margin: 0px\; padding: 0px\; border: 0px\; outline: 0px\; text-size-adjust: 100%\; vertical-align: baseline\; background: transparent\; position: relative\;">\n<div class="et_pb_module et_pb_text et_pb_text_17  et_pb_text_align_left et_pb_bg_layout_light" style="box-sizing: border-box\; margin: 0px 0px 29.7px\; padding: 0px\; border: 0px\; outline: 0px\; font-size: 14px\; text-size-adjust: 100%\; vertical-align: baseline\; background: 50% center / cover no-repeat rgb(255\, 255\, 255)\; overflow-wrap: break-word\; animation-timing-function: linear\; animation-duration: 0.2s\; color: rgb(102\, 102\, 102)\; font-family: &quot\;Open Sans&quot\;\, Arial\, sans-serif\;">\n<div class="et_pb_text_inner" style="box-sizing: border-box\; margin: 0px\; padding: 0px\; border: 0px\; outline: 0px\; text-size-adjust: 100%\; vertical-align: baseline\; background: transparent\; position: relative\;">\n<h3 style="box-sizing: border-box\; margin: 0px\; padding: 0px 0px 10px\; border: 0px\; outline: 0px\; font-size: 22px\; text-size-adjust: 100%\; vertical-align: baseline\; background: transparent\; color: rgb(51\, 51\, 51)\; line-height: 1em\; font-weight: 500\;">August 25th: Green Infrastructure Project in Elk Rapids</h3>\n</div>\n</div>\n\n<div class="et_pb_module et_pb_text et_pb_text_18  et_pb_text_align_left et_pb_bg_layout_light" style="box-sizing: border-box\; margin: 0px\; padding: 0px\; border: 0px\; outline: 0px\; font-size: 14px\; text-size-adjust: 100%\; vertical-align: baseline\; background: 50% center / cover no-repeat rgb(255\, 255\, 255)\; overflow-wrap: break-word\; animation-timing-function: linear\; animation-duration: 0.2s\; color: rgb(102\, 102\, 102)\; font-family: &quot\;Open Sans&quot\;\, Arial\, sans-serif\;">\n<div class="et_pb_text_inner" style="box-sizing: border-box\; margin: 0px\; padding: 0px\; border: 0px\; outline: 0px\; text-size-adjust: 100%\; vertical-align: baseline\; background: transparent\; position: relative\;">\n<div class="page" style="box-sizing: border-box\; margin: 0px\; padding: 0px\; border: 0px\; outline: 0px\; text-size-adjust: 100%\; vertical-align: baseline\; background: transparent\;" title="Page 41">\n<div class="layoutArea" style="box-sizing: border-box\; margin: 0px\; padding: 0px\; border: 0px\; outline: 0px\; text-size-adjust: 100%\; vertical-align: baseline\; background: transparent\;">\n<div class="column" style="box-sizing: border-box\; margin: 0px\; padding: 0px\; border: 0px\; outline: 0px\; text-size-adjust: 100%\; vertical-align: baseline\; background: transparent\;">\n<p style="box-sizing: border-box\; margin: 0px\; padding: 0px 0px 1em\; border: 0px\; outline: 0px\; text-size-adjust: 100%\; vertical-align: baseline\; background: transparent\;"><span style="box-sizing: border-box\; margin: 0px\; padding: 0px\; border: 0px\; outline: 0px\; text-size-adjust: 100%\; vertical-align: baseline\; background: transparent\;">Sarah U&rsquo\;Ren\, Program Director at&nbsp\;<a href="https://www.gtbay.org/" rel="noopener noreferrer" style="box-sizing: border-box\; margin: 0px\; padding: 0px\; border: 0px\; outline: 0px\; text-size-adjust: 100%\; vertical-align: baseline\; background: transparent\; color: rgb(46\, 163\, 242)\; text-decoration-line: none\;" target="_blank">The Watershed Center of Grand Traverse Bay</a>\, will explain the goals of the&nbsp\;<a href="https://www.traverseticker.com/news/watershed-center-lands-150k-grant-for-elk-rapids-stormwater-improvements/" rel="noopener noreferrer" style="box-sizing: border-box\; margin: 0px\; padding: 0px\; border: 0px\; outline: 0px\; text-size-adjust: 100%\; vertical-align: baseline\; background: transparent\; color: rgb(46\, 163\, 242)\; text-decoration-line: none\;" target="_blank">Green Infrastructure Stormwater Project</a>&nbsp\;in Elk Rapids. We will learn the details for protecting the Grand Traverse Bay from pollutants and stormwater runoff from various locations in Elk Rapids.</span></p>\n\n<p style="box-sizing: border-box\; margin: 0px\; padding: 0px\; border: 0px\; outline: 0px\; text-size-adjust: 100%\; vertical-align: baseline\; background: transparent\;"><em style="box-sizing: border-box\; margin: 0px\; padding: 0px\; border: 0px\; outline: 0px\; text-size-adjust: 100%\; vertical-align: baseline\; background: transparent\;">Hostesses: Char Brady*\, Sarah Peck\, Eddie Hubbell and Judy Oswald</em></p>\n</div>\n</div>\n</div>\n</div>\n</div>\n</div>\n</div>\n
LOCATION:First Presbyterian Church in Elk Rapids
UID:e.2409.23386
SEQUENCE:3
DTSTAMP:20260422T044302Z
URL:https://business.elkrapidschamber.org/events/details/elk-rapids-garden-club-meeting-23386
END:VEVENT

END:VCALENDAR
