BEGIN:VCALENDAR
VERSION:2.0
PRODID:-//ChamberMaster//Event Calendar 2.0//EN
METHOD:PUBLISH
X-PUBLISHED-TTL:P3D
REFRESH-INTERVAL:P3D
CALSCALE:GREGORIAN
BEGIN:VEVENT
DTSTART:20200922T160000Z
DTEND:20200922T180000Z
X-MICROSOFT-CDO-ALLDAYEVENT:FALSE
SUMMARY:Elk Rapids Garden Club Meeting
DESCRIPTION:CHECK WEBSITE FOR MEETING UPDATES
X-ALT-DESC;FMTTYPE=text/html:<div class="et_pb_module et_pb_text et_pb_text_15  et_pb_text_align_left et_pb_bg_layout_light" style="box-sizing: border-box\; margin: 0px 0px 29.7px\; padding: 0px\; border: 0px\; outline: 0px\; font-size: 14px\; text-size-adjust: 100%\; vertical-align: baseline\; background: 50% center / cover no-repeat rgb(255\, 255\, 255)\; overflow-wrap: break-word\; animation-timing-function: linear\; animation-duration: 0.2s\; color: rgb(102\, 102\, 102)\; font-family: &quot\;Open Sans&quot\;\, Arial\, sans-serif\;">\n<div class="et_pb_text_inner" style="box-sizing: border-box\; margin: 0px\; padding: 0px\; border: 0px\; outline: 0px\; text-size-adjust: 100%\; vertical-align: baseline\; background: transparent\; position: relative\;">\n<div class="et_pb_module et_pb_text et_pb_text_17  et_pb_text_align_left et_pb_bg_layout_light" style="box-sizing: border-box\; margin: 0px 0px 29.7px\; padding: 0px\; border: 0px\; outline: 0px\; font-size: 14px\; text-size-adjust: 100%\; vertical-align: baseline\; background: 50% center / cover no-repeat rgb(255\, 255\, 255)\; overflow-wrap: break-word\; animation-timing-function: linear\; animation-duration: 0.2s\; color: rgb(102\, 102\, 102)\; font-family: &quot\;Open Sans&quot\;\, Arial\, sans-serif\;">\n<div class="et_pb_text_inner" style="box-sizing: border-box\; margin: 0px\; padding: 0px\; border: 0px\; outline: 0px\; text-size-adjust: 100%\; vertical-align: baseline\; background: transparent\; position: relative\;">\n<div class="et_pb_module et_pb_text et_pb_text_19  et_pb_text_align_left et_pb_bg_layout_light" style="box-sizing: border-box\; margin: 0px 0px 29.7px\; padding: 0px\; border: 0px\; outline: 0px\; font-size: 14px\; text-size-adjust: 100%\; vertical-align: baseline\; background: 50% center / cover no-repeat rgb(255\, 255\, 255)\; overflow-wrap: break-word\; animation-timing-function: linear\; animation-duration: 0.2s\; color: rgb(102\, 102\, 102)\; font-family: &quot\;Open Sans&quot\;\, Arial\, sans-serif\;">\n<div class="et_pb_text_inner" style="box-sizing: border-box\; margin: 0px\; padding: 0px\; border: 0px\; outline: 0px\; text-size-adjust: 100%\; vertical-align: baseline\; background: transparent\; position: relative\;">\n<h3 style="box-sizing: border-box\; margin: 0px\; padding: 0px 0px 10px\; border: 0px\; outline: 0px\; font-size: 22px\; text-size-adjust: 100%\; vertical-align: baseline\; background: transparent\; color: rgb(51\, 51\, 51)\; line-height: 1em\; font-weight: 500\;">CHECK WEBSITE FOR MEETING UPDATES</h3>\n</div>\n</div>\n\n<div class="et_pb_module et_pb_text et_pb_text_20  et_pb_text_align_left et_pb_bg_layout_light" style="box-sizing: border-box\; margin: 0px\; padding: 0px\; border: 0px\; outline: 0px\; font-size: 14px\; text-size-adjust: 100%\; vertical-align: baseline\; background: 50% center / cover no-repeat rgb(255\, 255\, 255)\; overflow-wrap: break-word\; animation-timing-function: linear\; animation-duration: 0.2s\; color: rgb(102\, 102\, 102)\; font-family: &quot\;Open Sans&quot\;\, Arial\, sans-serif\;">\n<div class="et_pb_text_inner" style="box-sizing: border-box\; margin: 0px\; padding: 0px\; border: 0px\; outline: 0px\; text-size-adjust: 100%\; vertical-align: baseline\; background: transparent\; position: relative\;">\n<p style="box-sizing: border-box\; margin: 0px\; padding: 0px 0px 1em\; border: 0px\; outline: 0px\; text-size-adjust: 100%\; vertical-align: baseline\; background: transparent\;">&nbsp\;</p>\n</div>\n</div>\n</div>\n</div>\n</div>\n</div>\n
LOCATION:
UID:e.2409.23387
SEQUENCE:3
DTSTAMP:20260422T044428Z
URL:https://business.elkrapidschamber.org/events/details/elk-rapids-garden-club-meeting-09-22-2020-23387
END:VEVENT

END:VCALENDAR
