BEGIN:VCALENDAR
VERSION:2.0
PRODID:-//ChamberMaster//Event Calendar 2.0//EN
METHOD:PUBLISH
X-PUBLISHED-TTL:P3D
REFRESH-INTERVAL:P3D
CALSCALE:GREGORIAN
BEGIN:VEVENT
DTSTART:20230627T163000Z
DTEND:20230627T180000Z
X-MICROSOFT-CDO-ALLDAYEVENT:FALSE
SUMMARY:Elk Rapids Garden Club Meeting-Importance of Good Dirt
DESCRIPTION:June 27         Dave Bos               Biodynamic Wines  \n\nAt Elk Rapids Harbor Marina\; 12:30 p.m.\n\nAs a vintner\, the personal philosophy of Dave Bos is to make world-class wine and to change the wisdom of farming back to the farming of 150 to 200 years ago. This entails using biodynamic and organic farming for grape production. Dave\, a Michigan native\, started as a biodynamic vineyard manager in Napa Valley\, California. In 2010 BOS Wine was born with 48 cases of BOS Phoenix Ranch Syrah. Dave and his wife\, Jackie\, now share wines that are intimately involved with both California and Michigan grapes\, at the BOS Wine Garden in downtown Elk Rapids\, MI.\n\n \n\nJuly 18        Garden Walk            Celebrate Water: Keep it Blue\n\nSix special gardens will educate and delight visitors throughout the Elk Rapids area between 10:00am and 5:00pm. More information is coming soon! In the meantime\, take a look back at the last Elk Rapids Garden Walk here.\n\n \n\nJuly 25           Angie Bouma        "Ferntastic"\n\nAt First Presbyterian Church\; 12:30 p.m.\n\nAngie Bouma is a senior land steward with the Grand Traverse Regional Land Conservancy. Angie will be speaking about the ferns from the protected lands of the Grand Traverse Regional Land Conservancy. To quote Angie\, "Ferns are great landscaping plants and there is a lot to learn about them!"\n\n \n\nAugust 22    Lauren Dey             Water Quality and What it Means\n\nAt Elk Rapids Harbor Marina\; 12:30 p.m.\nLauren Dey is a watershed management coordinator for the Tip of the Mitt Watershed Council. Since 1979 the Watershed Council has protected the water resources of five counties\, including Antrim through advocacy\, education\, water quality monitoring\, research\, and restoration actions. Learn about the health of our lakes and streams\, what the emerging issues are\, and what we can do to help protect them.\nSeptember 26         Robyn Shank                                                              Our Town's Gardens Nurtured by the Elk Rapids Garden Club \n\nAt Elk Rapids Harbor Marina\; 11:30 a.m.\n\nRobyn is a long-time resident of Elk Rapids and Garden Club member with a passion for local history. She narrated the historical review of gardens for the 9&10 News clips on our gardens in 2022\, and she is the creator of the virtual garden tour video on the Our Gardens web page. Robyn will unveil the historical roots of each of our Club gardens complete with photos taken over the years and pictorial updates on current garden developments.\n\nPlease note: Social time begins at 11:30am with the luncheon served at noon.\nOctober 24              Lindsey Bona-Eggeman      Plant This Not That\n\nAt First Presbyterian Church of Elk Rapids\; 12:30 p.m.\n\nLindsey Bona-Eggeman is the invasive species coordinator for Antrim County whose role is to protect natural resources\, the economy\, and human health in northern lower Michigan through collaborative outreach and management of invasive species. Lindsey will tell us how NOT to introduce new invasive species to our landscapes.
X-ALT-DESC;FMTTYPE=text/html:<strong><span style="font-size:14.0pt\;">June 27&nbsp\;&nbsp\;&nbsp\;&nbsp\;&nbsp\;&nbsp\;&nbsp\;&nbsp\; Dave Bos&nbsp\; &nbsp\; &nbsp\; &nbsp\; &nbsp\; &nbsp\; &nbsp\; &nbsp\;Biodynamic Wines&nbsp\; </span></strong><br />\n<strong>At Elk Rapids Harbor Marina\; 12:30 p.m.</strong><br />\n<span style="color: rgb(102\, 102\, 102)\; font-family: &quot\;Open Sans&quot\;\, Arial\, sans-serif\; font-size: 14px\; background-color: rgb(255\, 255\, 255)\;">As a vintner\, the personal philosophy of Dave Bos is to make world-class wine and to change the wisdom of farming back to the farming of 150 to 200 years ago. This entails using biodynamic and organic farming for grape production. Dave\, a Michigan native\, started as a biodynamic vineyard manager in Napa Valley\, California. In 2010 BOS Wine was born with 48 cases of BOS Phoenix Ranch Syrah. Dave and his wife\, Jackie\, now share wines that are intimately involved with both California and Michigan grapes\, at the BOS Wine Garden in downtown Elk Rapids\, MI.</span><br />\n&nbsp\;<br />\n<strong><span style="font-size:14.0pt\;">July 18&nbsp\;&nbsp\;&nbsp\;&nbsp\;&nbsp\;&nbsp\;&nbsp\; Garden Walk&nbsp\; &nbsp\; &nbsp\; &nbsp\; &nbsp\; &nbsp\; Celebrate Water: Keep it Blue</span></strong><br />\n<span style="color: rgb(102\, 102\, 102)\; font-family: &quot\;Open Sans&quot\;\, Arial\, sans-serif\; font-size: 14px\; background-color: rgb(255\, 255\, 255)\;">Six special gardens will educate and delight visitors throughout the Elk Rapids area between 10:00am and 5:00pm. More information is coming soon! In the meantime\, take a look back at the last Elk Rapids Garden Walk&nbsp\;</span><a href="https://www.elkrapidsgardenclub.com/gardenwalk/" rel="noopener" style="box-sizing: border-box\; text-decoration-line: none\; margin: 0px\; padding: 0px\; border: 0px\; outline: 0px\; font-size: 14px\; text-size-adjust: 100%\; vertical-align: baseline\; background: rgb(255\, 255\, 255)\; color: rgb(46\, 163\, 242)\; font-family: &quot\;Open Sans&quot\;\, Arial\, sans-serif\;" target="_blank">here</a><span style="color: rgb(102\, 102\, 102)\; font-family: &quot\;Open Sans&quot\;\, Arial\, sans-serif\; font-size: 14px\; background-color: rgb(255\, 255\, 255)\;">.</span><br />\n&nbsp\;<br />\n<strong><span style="font-size:14.0pt\;">July 25&nbsp\;&nbsp\;&nbsp\;&nbsp\;&nbsp\;&nbsp\;&nbsp\;&nbsp\;&nbsp\;&nbsp\; Angie Bouma&nbsp\; &nbsp\; &nbsp\; &nbsp\; &ldquo\;Ferntastic&rdquo\;</span></strong><br />\n<strong>At First Presbyterian Church\; 12:30 p.m.</strong><br />\n<span style="color: rgb(102\, 102\, 102)\; font-family: &quot\;Open Sans&quot\;\, Arial\, sans-serif\; font-size: 14px\; background-color: rgb(255\, 255\, 255)\;">Angie Bouma is a senior land steward with the Grand Traverse Regional Land Conservancy. Angie will be speaking about the ferns from the protected lands of the Grand Traverse Regional Land Conservancy. To quote Angie\, &ldquo\;Ferns are great landscaping plants and there is a lot to learn about them!&rdquo\;</span><br />\n&nbsp\;<br />\n<strong><span style="font-size:14.0pt\;">August 22&nbsp\;&nbsp\;&nbsp\; Lauren Dey&nbsp\; &nbsp\; &nbsp\; &nbsp\; &nbsp\; &nbsp\; &nbsp\;Water Quality and What it Means</span></strong><br />\n<strong>At Elk Rapids Harbor Marina\; 12:30 p.m.</strong>\n<p style="box-sizing: border-box\; margin: 0px\; padding: 0px 0px 1em\; border: 0px\; outline: 0px\; font-size: 14px\; text-size-adjust: 100%\; vertical-align: baseline\; background: rgb(255\, 255\, 255)\; color: rgb(102\, 102\, 102)\; font-family: &quot\;Open Sans&quot\;\, Arial\, sans-serif\;">Lauren Dey is a watershed management coordinator for the Tip of the Mitt Watershed Council. Since 1979 the Watershed Council has protected the water resources of five counties\, including Antrim through advocacy\, education\, water quality monitoring\, research\, and restoration actions. Learn about the health of our lakes and streams\, what the emerging issues are\, and what we can do to help protect them.</p>\n<strong><span style="color:black\;"><span style="font-size:14.0pt\;">September 26&nbsp\;&nbsp\;&nbsp\; &nbsp\;&nbsp\;&nbsp\;&nbsp\; Robyn Shank&nbsp\; &nbsp\; &nbsp\; &nbsp\; &nbsp\; &nbsp\; &nbsp\; &nbsp\; &nbsp\; &nbsp\; &nbsp\; &nbsp\; &nbsp\; &nbsp\; &nbsp\; &nbsp\; &nbsp\; &nbsp\; &nbsp\; &nbsp\; &nbsp\; &nbsp\; &nbsp\; &nbsp\; &nbsp\; &nbsp\; &nbsp\; &nbsp\; &nbsp\; &nbsp\; &nbsp\; Our Town&rsquo\;s Gardens Nurtured by the Elk Rapids Garden Club </span></span></strong><br />\n<strong>At Elk Rapids Harbor Marina\; 11:30 a.m.</strong>\n\n<p style="box-sizing: border-box\; margin: 0px\; padding: 0px 0px 1em\; border: 0px\; outline: 0px\; font-size: 14px\; text-size-adjust: 100%\; vertical-align: baseline\; background: rgb(255\, 255\, 255)\; color: rgb(102\, 102\, 102)\; font-family: &quot\;Open Sans&quot\;\, Arial\, sans-serif\;">Robyn is a long-time resident of Elk Rapids and Garden Club member with a passion for local history. She narrated the historical review of gardens for the 9&amp\;10 News clips on our gardens in 2022\, and she is the creator of the virtual garden tour video on the&nbsp\;<a href="https://www.elkrapidsgardenclub.com/gardens/" rel="noopener" style="box-sizing: border-box\; text-decoration-line: none\; margin: 0px\; padding: 0px\; border: 0px\; outline: 0px\; text-size-adjust: 100%\; vertical-align: baseline\; background: transparent\; color: rgb(46\, 163\, 242)\;" target="_blank">Our Gardens web page</a>. Robyn will unveil the historical roots of each of our Club gardens complete with photos taken over the years and pictorial updates on current garden developments.</p>\n\n<p style="box-sizing: border-box\; margin: 0px\; padding: 0px 0px 1em\; border: 0px\; outline: 0px\; font-size: 14px\; text-size-adjust: 100%\; vertical-align: baseline\; background: rgb(255\, 255\, 255)\; color: rgb(102\, 102\, 102)\; font-family: &quot\;Open Sans&quot\;\, Arial\, sans-serif\;"><span style="box-sizing: border-box\; margin: 0px\; padding: 0px\; border: 0px\; outline: 0px\; text-size-adjust: 100%\; vertical-align: baseline\; background: transparent\; font-weight: 700\;">Please note:</span>&nbsp\;Social time begins at 11:30am with the luncheon served at noon.</p>\n<strong><span style="font-size:14.0pt\;">October 24&nbsp\;&nbsp\;&nbsp\;&nbsp\;&nbsp\;&nbsp\;&nbsp\;&nbsp\;&nbsp\;&nbsp\;&nbsp\;&nbsp\;&nbsp\; Lindsey Bona-Eggeman&nbsp\; &nbsp\; &nbsp\; Plant This Not That</span></strong><br />\n<strong>At First Presbyterian Church of Elk Rapids\; 12:30 p.m.</strong><br />\n<span style="color: rgb(102\, 102\, 102)\; font-family: &quot\;Open Sans&quot\;\, Arial\, sans-serif\; font-size: 14px\; background-color: rgb(255\, 255\, 255)\;">Lindsey Bona-Eggeman is the invasive species coordinator for Antrim County whose role is to protect natural resources\, the economy\, and human health in northern lower Michigan through collaborative outreach and management of invasive species. Lindsey will tell us how NOT to introduce new invasive species to our landscapes.</span>
LOCATION:Elk Rapids Harbor Pavilion Elk Rapids
UID:e.2409.36409
SEQUENCE:3
DTSTAMP:20260420T022522Z
URL:https://business.elkrapidschamber.org/events/details/elk-rapids-garden-club-meeting-06-27-2023-36409
END:VEVENT

END:VCALENDAR
