BEGIN:VCALENDAR
VERSION:2.0
PRODID:-//ChamberMaster//Event Calendar 2.0//EN
METHOD:PUBLISH
X-PUBLISHED-TTL:P3D
REFRESH-INTERVAL:P3D
CALSCALE:GREGORIAN
BEGIN:VEVENT
DTSTART:20220924T160000Z
DTEND:20220924T200000Z
X-MICROSOFT-CDO-ALLDAYEVENT:FALSE
SUMMARY:Elk Rapids Fall Festival & Scarecrow Contest
DESCRIPTION:The Downtown Elk Rapids Association is hosting a Fall Festival on River Street Saturday\, September 24\, 2022\, from 12:00 to 4:00 p.m.   This fourth Saturday in September is also known as the second annual Michigan Downtown Day honoring and supporting downtowns and the small businesses located within.\n\nTo celebrate this special day\, there will be pumpkin painting\, kids' games and activities\, music\, cider and donuts\, a beer and brats tent\, Autumn harvest market\, a scarecrow contest and more.  Special guests will include the Christmas reindeer along with Alpaca's.  Bring the family downtown to play\, shop\, and dine as we celebrate fall with all its golden glory. River Street will be closed from traffic during this family fun event. \n\nYou can follow the Elk Rapids Downtown Association Facebook page for any updates.
X-ALT-DESC;FMTTYPE=text/html:The Downtown Elk Rapids Association is hosting a Fall Festival on River Street Saturday\, September 24\, 2022\, from 12:00 to 4:00 p.m.&nbsp\; &nbsp\;This fourth Saturday in September is also known as the second annual Michigan Downtown Day honoring and supporting downtowns and the small businesses located within.<br />\nTo celebrate this special day\, there will be pumpkin painting\, kids&rsquo\; games and activities\, music\, cider and donuts\, a beer and brats tent\, Autumn harvest market\, a scarecrow contest and more.&nbsp\; Special guests will include the Christmas reindeer along with Alpaca&rsquo\;s.&nbsp\; Bring the family downtown to play\, shop\, and dine as we celebrate fall with all its golden glory. River Street will be closed from traffic during this family fun event.&nbsp\;<br />\nYou can follow the Elk Rapids Downtown Association Facebook page for any updates.
LOCATION:Downtown Elk Rapids on River Street
UID:e.2409.28253
SEQUENCE:3
DTSTAMP:20260420T154658Z
URL:https://business.elkrapidschamber.org/events/details/elk-rapids-fall-festival-scarecrow-contest-28253
END:VEVENT

END:VCALENDAR
