BEGIN:VCALENDAR
VERSION:2.0
PRODID:-//ChamberMaster//Event Calendar 2.0//EN
METHOD:PUBLISH
X-PUBLISHED-TTL:P3D
REFRESH-INTERVAL:P3D
CALSCALE:GREGORIAN
BEGIN:VEVENT
DTSTART:20230630T190000Z
DTEND:20230630T210000Z
X-MICROSOFT-CDO-ALLDAYEVENT:FALSE
SUMMARY:Elk Lake Floral Ribbon Cutting and Grand Re-opening
DESCRIPTION:Come celebrate new ownership and welcome Ashly\, Isaac\, and family to our community.\n\nLight refreshments served.\n\nSale!  20 % off Annuals\, 10% off Perennials\, and 50% off Vegetable Plants
X-ALT-DESC;FMTTYPE=text/html:Come celebrate new ownership and welcome Ashly\, Isaac\, and family to our community.<br />\nLight refreshments served.<br />\nSale!&nbsp\; 20 % off Annuals\, 10% off Perennials\, and 50% off Vegetable Plants
LOCATION:8628 Cairn Hwy. Kewadin
UID:e.2409.38397
SEQUENCE:3
DTSTAMP:20260420T011751Z
URL:https://business.elkrapidschamber.org/events/details/elk-lake-floral-ribbon-cutting-and-grand-re-opening-38397
END:VEVENT

END:VCALENDAR
