BEGIN:VCALENDAR
VERSION:2.0
PRODID:-//ChamberMaster//Event Calendar 2.0//EN
METHOD:PUBLISH
X-PUBLISHED-TTL:P3D
REFRESH-INTERVAL:P3D
CALSCALE:GREGORIAN
BEGIN:VEVENT
DTSTART:20190828T220000Z
DTEND:20190829T010000Z
X-MICROSOFT-CDO-ALLDAYEVENT:FALSE
SUMMARY:E.R. Players Auditions
DESCRIPTION:The Elk Rapids Players will be holding open auditions for their upcoming production of Guys and Dolls on August 28 and 29 from 6:00 to 9:00 at the Historic Elk Rapids Town Hall. \n\nProduction dates are November 15 - 24.\n\nThose auditioning should come prepared to sing a song that will feature/demonstrate your range.\n\nPerusal scripts are available at the Nature Connection in Elk Rapids. For questions or further details contact Director Roxanne Lutey at (231) 264-6330.
X-ALT-DESC;FMTTYPE=text/html:<span style="color: rgb(29\, 34\, 40)\; font-family: monospace\; font-size: 13px\; background-color: rgb(255\, 255\, 255)\;">The Elk Rapids Players will be holding open auditions for their upcoming production of Guys and Dolls on August 28 and 29 from 6:00 to 9:00 at the Historic Elk Rapids Town Hall.&nbsp\;</span><br style="color: rgb(29\, 34\, 40)\; font-family: monospace\; font-size: 13px\; background-color: rgb(255\, 255\, 255)\;" />\n<span style="color: rgb(29\, 34\, 40)\; font-family: monospace\; font-size: 13px\; background-color: rgb(255\, 255\, 255)\;">Production dates are November 15 - 24.</span><br style="color: rgb(29\, 34\, 40)\; font-family: monospace\; font-size: 13px\; background-color: rgb(255\, 255\, 255)\;" />\n<span style="color: rgb(29\, 34\, 40)\; font-family: monospace\; font-size: 13px\; background-color: rgb(255\, 255\, 255)\;">Those auditioning should come prepared to sing a song that will feature/demonstrate your range.</span><br style="color: rgb(29\, 34\, 40)\; font-family: monospace\; font-size: 13px\; background-color: rgb(255\, 255\, 255)\;" />\n<span style="color: rgb(29\, 34\, 40)\; font-family: monospace\; font-size: 13px\; background-color: rgb(255\, 255\, 255)\;">Perusal scripts are available at the Nature Connection in Elk Rapids. For questions or further details contact Director Roxanne Lutey at (231) 264-6330.</span><span style="font-size:16px\;"><span style="font-family:courier new\;"><em><strong> </strong></em></span></span>
LOCATION:Historical Elk Rapids Town Hall
UID:e.2409.20675
SEQUENCE:3
DTSTAMP:20260423T150610Z
URL:https://business.elkrapidschamber.org/events/details/e-r-players-auditions-20675
END:VEVENT

END:VCALENDAR
