BEGIN:VCALENDAR
VERSION:2.0
PRODID:-//ChamberMaster//Event Calendar 2.0//EN
METHOD:PUBLISH
X-PUBLISHED-TTL:P3D
REFRESH-INTERVAL:P3D
CALSCALE:GREGORIAN
BEGIN:VEVENT
DTSTART:20240222T230000Z
DTEND:20240223T003000Z
X-MICROSOFT-CDO-ALLDAYEVENT:FALSE
SUMMARY:E.R. Players Auditions
DESCRIPTION:The Elk Rapids Players will be holding auditions for their upcoming production of Arsenic and Old Lace at the Historic Elk Rapids Town Hall on February 20\, 21 and 22 from 6:00 to 7:30. For perusal scripts cal (231)944-2976.\n\nThe show is directed by Roxanne Lutey and will be presented May 3\,4\,5 and 10\,11\,12.
X-ALT-DESC;FMTTYPE=text/html:<span style="color: rgb(44\, 54\, 58)\; font-family: monospace\; font-size: 13px\; background-color: rgb(255\, 255\, 255)\;">The Elk Rapids Players will be holding auditions for their upcoming production of Arsenic and Old Lace at the Historic Elk Rapids Town Hall on February 20\, 21 and 22 from 6:00 to 7:30. For perusal scripts cal (231)944-2976.</span><br style="box-sizing: border-box\; color: rgb(44\, 54\, 58)\; font-family: monospace\; font-size: 13px\; background-color: rgb(255\, 255\, 255)\;" />\n<span style="color: rgb(44\, 54\, 58)\; font-family: monospace\; font-size: 13px\; background-color: rgb(255\, 255\, 255)\;">The show is directed by Roxanne Lutey and will be presented May 3\,4\,5 and 10\,11\,12.</span><span style="font-size:16px\;"><span style="font-family:courier new\;"><em><strong> </strong></em></span></span>
LOCATION:Historical Elk Rapids Town Hall
UID:e.2409.42980
SEQUENCE:3
DTSTAMP:20260419T121110Z
URL:https://business.elkrapidschamber.org/events/details/e-r-players-auditions-02-22-2024-42980
END:VEVENT

END:VCALENDAR
