BEGIN:VCALENDAR
VERSION:2.0
PRODID:-//ChamberMaster//Event Calendar 2.0//EN
METHOD:PUBLISH
X-PUBLISHED-TTL:P3D
REFRESH-INTERVAL:P3D
CALSCALE:GREGORIAN
BEGIN:VEVENT
DTSTART:20231118T160000Z
DTEND:20231118T230000Z
X-MICROSOFT-CDO-ALLDAYEVENT:FALSE
SUMMARY:Doe Camp & Holiay Open House
DESCRIPTION:Great Shopping and gift giving ideas\n\nFree "Doe Tag' making (Holiday gift tags)\n\nGive aways and Door Prizes
X-ALT-DESC;FMTTYPE=text/html:Great Shopping and gift giving ideas<br />\nFree &quot\;Doe Tag&#39\; making (Holiday gift tags)<br />\nGive aways and Door Prizes
LOCATION:
UID:e.2409.39847
SEQUENCE:3
DTSTAMP:20260419T175538Z
URL:https://business.elkrapidschamber.org/events/details/doe-camp-holiay-open-house-39847
END:VEVENT

END:VCALENDAR
