BEGIN:VCALENDAR
VERSION:2.0
PRODID:-//ChamberMaster//Event Calendar 2.0//EN
METHOD:PUBLISH
X-PUBLISHED-TTL:P3D
REFRESH-INTERVAL:P3D
CALSCALE:GREGORIAN
BEGIN:VEVENT
DTSTART:20220622T210000Z
DTEND:20220622T230000Z
X-MICROSOFT-CDO-ALLDAYEVENT:FALSE
SUMMARY:DNR Torch River Bridge Informational Open House
DESCRIPTION:Learn about planned enhancements at Torch River Bridge boating access site on June 22 open house\n\nAnyone interested in a proposed enhancement project at the Torch River Bridge boating access site\, in Antrim County\, is encouraged to attend an upcoming open house in Kewadin. The Michigan Department of Natural Resources is seeking public input on plans for this popular site located at the mouth of Torch River on the south end of Torch Lake.  Read More
X-ALT-DESC;FMTTYPE=text/html:<h2 style="line-height: 1.1\; color: rgb(60\, 60\, 60)\; font-family: calibri\, candara\, segoe\, optima\, arial\, sans-serif\; font-size: 22px\; margin: 0px 0px 10px\;">Learn about planned enhancements at Torch River Bridge boating access site on June 22 open house</h2>\n\n<p style="text-size-adjust: 100%\; color: rgb(63\, 63\, 63)\; font-family: calibri\, candara\, segoe\, optima\, arial\, sans-serif\; font-size: 17px\; margin: 0px 0px 10px\; line-height: 1.5 !important\;">Anyone interested in a proposed enhancement project at the Torch River Bridge boating access site\, in Antrim County\, is encouraged to attend an upcoming open house in Kewadin. The Michigan Department of Natural Resources is seeking public input on plans for this popular site located at the mouth of Torch River on the south end of Torch Lake.&nbsp\; <a href="https://bit.ly/3xJUQPV"><span style="color:#0000FF\;">Read More &gt\;&gt\;</span></a></p>\n
LOCATION:Milton Township Historic Town Hall 7268 Cairn Hwy\, Kewadin\, MI
UID:e.2409.30546
SEQUENCE:3
DTSTAMP:20260420T202515Z
URL:https://business.elkrapidschamber.org/events/details/dnr-torch-river-bridge-informational-open-house-30546
END:VEVENT

END:VCALENDAR
