BEGIN:VCALENDAR
VERSION:2.0
PRODID:-//ChamberMaster//Event Calendar 2.0//EN
METHOD:PUBLISH
X-PUBLISHED-TTL:P3D
REFRESH-INTERVAL:P3D
CALSCALE:GREGORIAN
BEGIN:VEVENT
DTSTART:20240120T160000Z
DTEND:20240120T180000Z
X-MICROSOFT-CDO-ALLDAYEVENT:FALSE
SUMMARY:DIY Hat Bar at the DAM Shop and Northwind Blooms
DESCRIPTION:A Northern Michigan Ladies Day at The Dam Shop with Do Something Lady and Northwind Blooms!\n\nDesign and create your own custom hat at this DIY Hat Bar. Felt and polyester hats have adjustable draw strings inside to fit most. On site will be a plethora of materials from hand died ribbons\, leather cord\, rope\, chains\, charms\, feathers\, dried florals and other materials to make it your own. Do Something Lady will provide suggestions\, guidance and assistance in executing your design.\n\nThe Dam will provide your first glass of wine or specialty coffee beverage\, included with your ticket purchase and on-site pop-up shopping with Northwind Blooms Boutique will be set up!\n\nPrice includes hat of your choosing\, multiple styles and colors will be on hand to choose from\, as well as all general materials to customize\, also included is your first beverage. Additional snacks and drinks\, and Pop-up shopping with Northwind Blooms for purchase!\n\nThere will be a few specialized items for purchase to upgrade your hat\, like fancy feathers\, hat pins and luxury fabrics and charms. These will be clearly marked as additional cost items.\n\nTickets are non-refundable\, non-transferrable.
X-ALT-DESC;FMTTYPE=text/html:<div class="xdj266r x11i5rnm xat24cr x1mh8g0r x1vvkbs" style="margin: 0px\; overflow-wrap: break-word\; font-family: &quot\;Segoe UI Historic&quot\;\, &quot\;Segoe UI&quot\;\, Helvetica\, Arial\, sans-serif\; color: rgb(5\, 5\, 5)\; font-size: 15px\; background-color: rgb(255\, 255\, 255)\;">A Northern Michigan Ladies Day at The Dam Shop with Do Something Lady and Northwind Blooms!</div>\n\n<div class="x11i5rnm xat24cr x1mh8g0r x1vvkbs xtlvy1s" style="margin: 0.5em 0px 0px\; overflow-wrap: break-word\; font-family: &quot\;Segoe UI Historic&quot\;\, &quot\;Segoe UI&quot\;\, Helvetica\, Arial\, sans-serif\; color: rgb(5\, 5\, 5)\; font-size: 15px\; background-color: rgb(255\, 255\, 255)\;">Design and create your own custom hat at this DIY Hat Bar. Felt and polyester hats have adjustable draw strings inside to fit most. On site will be a plethora of materials from hand died ribbons\, leather cord\, rope\, chains\, charms\, feathers\, dried florals and other materials to make it your own. Do Something Lady will provide suggestions\, guidance and assistance in executing your design.</div>\n\n<div class="x11i5rnm xat24cr x1mh8g0r x1vvkbs xtlvy1s" style="margin: 0.5em 0px 0px\; overflow-wrap: break-word\; font-family: &quot\;Segoe UI Historic&quot\;\, &quot\;Segoe UI&quot\;\, Helvetica\, Arial\, sans-serif\; color: rgb(5\, 5\, 5)\; font-size: 15px\; background-color: rgb(255\, 255\, 255)\;">The Dam will provide your first glass of wine or specialty coffee beverage\, included with your ticket purchase and on-site pop-up shopping with Northwind Blooms Boutique will be set up!</div>\n\n<div class="x11i5rnm xat24cr x1mh8g0r x1vvkbs xtlvy1s" style="margin: 0.5em 0px 0px\; overflow-wrap: break-word\; font-family: &quot\;Segoe UI Historic&quot\;\, &quot\;Segoe UI&quot\;\, Helvetica\, Arial\, sans-serif\; color: rgb(5\, 5\, 5)\; font-size: 15px\; background-color: rgb(255\, 255\, 255)\;">Price includes hat of your choosing\, multiple styles and colors will be on hand to choose from\, as well as all general materials to customize\, also included is your first beverage. Additional snacks and drinks\, and Pop-up shopping with Northwind Blooms for purchase!</div>\n\n<div class="x11i5rnm xat24cr x1mh8g0r x1vvkbs xtlvy1s" style="margin: 0.5em 0px 0px\; overflow-wrap: break-word\; font-family: &quot\;Segoe UI Historic&quot\;\, &quot\;Segoe UI&quot\;\, Helvetica\, Arial\, sans-serif\; color: rgb(5\, 5\, 5)\; font-size: 15px\; background-color: rgb(255\, 255\, 255)\;">There will be a few specialized items for purchase to upgrade your hat\, like fancy feathers\, hat pins and luxury fabrics and charms. These will be clearly marked as additional cost items.</div>\n\n<div class="x11i5rnm xat24cr x1mh8g0r x1vvkbs xtlvy1s" style="margin: 0.5em 0px 0px\; overflow-wrap: break-word\; font-family: &quot\;Segoe UI Historic&quot\;\, &quot\;Segoe UI&quot\;\, Helvetica\, Arial\, sans-serif\; color: rgb(5\, 5\, 5)\; font-size: 15px\; background-color: rgb(255\, 255\, 255)\;">Tickets are non-refundable\, non-transferrable.</div>\n
LOCATION:The DAM Shop 118 Bridge St. Elk Rapids\, MI
UID:e.2409.41526
SEQUENCE:3
DTSTAMP:20260419T134902Z
URL:https://business.elkrapidschamber.org/events/details/diy-hat-bar-at-the-dam-shop-and-northwind-blooms-41526
END:VEVENT

END:VCALENDAR
