BEGIN:VCALENDAR
VERSION:2.0
PRODID:-//ChamberMaster//Event Calendar 2.0//EN
METHOD:PUBLISH
X-PUBLISHED-TTL:P3D
REFRESH-INTERVAL:P3D
CALSCALE:GREGORIAN
BEGIN:VEVENT
DTSTART:20231014T150000Z
DTEND:20231014T170000Z
X-MICROSOFT-CDO-ALLDAYEVENT:FALSE
SUMMARY:DIY Hat Bar at the DAM Shop and Northwind Blooms
DESCRIPTION:10/14 DIY Hat Bar at The Dam Shop - Elk Rapids\n\n\n\n$78.00\n\n \n\n \n\n\n\nSaturday 10/14 11AM\n\nThe Dam Shop at Elk Rapids Marina\n\n118 Bridge Street\, Elk Rapids\, MI\n\nA Northern Michigan Ladies Day at The Dam Shop with Do Something Lady and Northwind Blooms!\n\nDesign and create your own custom hat at this DIY Hat Bar. Felt and polyester hats have adjustable draw strings inside to fit most. On site will be a plethora of materials from hand died ribbons\, leather cord\, rope\, chains\, charms\, feathers\, dried florals and other materials to make it your own. Do Something Lady will provide suggestions\, guidance and assistance in executing your design.\n\nThe Dam will provide your first glass of wine\, included with your ticket purchase and on site pop up shopping with Northwind Blooms Boutique!\n\nPrice includes hat of your choosing\, multiple styles and colors will be on hand to choose from\, as well as all general materials to customize\, also included is your first glass of wine. Additional snacks and drinks\, and Pop up shopping with Northwind Blooms for purchase!\n\nThere will be a vegan suede hat option upgrade available for purchase on site (+$20)\n\nTickets are non refundable\, non transferrable.
X-ALT-DESC;FMTTYPE=text/html:<h1 class="ProductItem-details-title" data-content-field="title" data-test="pdp-title" style="font-size: calc(var(--product-basic-item-title-font-font-size-value) * 1rem)\; margin: 0px 0px 25px\; font-family: Poppins\; font-weight: var(--product-basic-item-title-font-font-weight)\; line-height: var(--product-basic-item-title-font-line-height)\; color: rgb(0\, 0\, 0)\; order: 1\; text-align: center\;">10/14 DIY Hat Bar at The Dam Shop - Elk Rapids</h1>\n\n<div class="ProductItem-details-checkout" data-controller="ProductItemVariants\,ProductCartButton" data-controllers-bound="ProductItemVariants\,ProductCartButton" style="order: 4\; flex-direction: column\; color: rgb(0\, 0\, 0)\; font-family: Poppins\; font-size: 16px\; text-align: center\;">\n<div class="ProductItem-product-price" data-animation-role="content" id="yui_3_17_2_1_1695652173964_118" style="order: 1\; margin-bottom: 25px\;">\n<div class="product-price" style="font-family: var(--product-basic-item-price-font-font-family)\; font-style: var(--product-basic-item-price-font-font-style)\; font-weight: var(--product-basic-item-price-font-font-weight)\; line-height: var(--product-basic-item-price-font-line-height)\; letter-spacing: var(--product-basic-item-price-font-letter-spacing)\; text-transform: var(--product-basic-item-price-font-text-transform)\; font-size: calc(var(--product-basic-item-price-font-font-size-value) * 1rem)\; margin-bottom: 25px\; color: var(--tweak-product-basic-item-price-color)\;">$78.00</div>\n\n<div data-afterpay="true" data-current-context="{\n&quot\;64fa37dc7e70604b0d5dd82e&quot\;: {\n&quot\;scarcityEnabled&quot\;: false\,\n&quot\;scarcityShownByDefault&quot\;: false\,\n&quot\;afterPayAvailable&quot\;: false\,\n&quot\;klarnaAvailable&quot\;: false\,\n&quot\;stripeAccountCountry&quot\;: &quot\;US&quot\;\,\n&quot\;shopperLanguage&quot\;: &quot\;en&quot\;\,\n&quot\;afterPayMin&quot\;: 100\,\n&quot\;afterPayMax&quot\;: 200000\,\n&quot\;klarnaMin&quot\;: 0\,\n&quot\;klarnaMax&quot\;: 0\,\n&quot\;mailingListSignUpEnabled&quot\;: false\,\n&quot\;mailingListOptInByDefault&quot\;: false\n}\n}">&nbsp\;</div>\n\n<div class="pdp-overlay">&nbsp\;</div>\n</div>\n\n<div class="ProductItem-details-excerpt" data-content-field="excerpt" id="yui_3_17_2_1_1695652173964_117" style="margin-bottom: 40px\; order: 5\; font-family: var(--product-basic-item-description-font-font-family)\; font-style: var(--product-basic-item-description-font-font-style)\; font-weight: var(--product-basic-item-description-font-font-weight)\; line-height: var(--product-basic-item-description-font-line-height)\; letter-spacing: var(--product-basic-item-description-font-letter-spacing)\; text-transform: var(--product-basic-item-description-font-text-transform)\; font-size: calc(var(--product-basic-item-description-font-font-size-value) * 1rem)\;">\n<p style="margin: 1rem 0px\; line-height: var(--body-font-line-height)\;">Saturday 10/14 11AM</p>\n\n<p style="margin: 1rem 0px\; line-height: var(--body-font-line-height)\;">The Dam Shop at Elk Rapids Marina</p>\n\n<p style="margin: 1rem 0px\; line-height: var(--body-font-line-height)\;">118 Bridge Street\, Elk Rapids\, MI</p>\n\n<p style="margin: 1rem 0px\; line-height: var(--body-font-line-height)\;">A Northern Michigan Ladies Day at The Dam Shop with Do Something Lady and Northwind Blooms!</p>\n\n<p style="margin: 1rem 0px\; line-height: var(--body-font-line-height)\;">Design and create your own custom hat at this DIY Hat Bar. Felt and polyester hats have adjustable draw strings inside to fit most. On site will be a plethora of materials from hand died ribbons\, leather cord\, rope\, chains\, charms\, feathers\, dried florals and other materials to make it your own. Do Something Lady will provide suggestions\, guidance and assistance in executing your design.</p>\n\n<p style="margin: 1rem 0px\; line-height: var(--body-font-line-height)\;">The Dam will provide your first glass of wine\, included with your ticket purchase and on site pop up shopping with Northwind Blooms Boutique!</p>\n\n<p style="margin: 1rem 0px\; line-height: var(--body-font-line-height)\;">Price includes hat of your choosing\, multiple styles and colors will be on hand to choose from\, as well as all general materials to customize\, also included is your first glass of wine. Additional snacks and drinks\, and Pop up shopping with Northwind Blooms for purchase!</p>\n\n<p style="margin: 1rem 0px\; line-height: var(--body-font-line-height)\;">There will be a vegan suede hat option upgrade available for purchase on site (+$20)</p>\n\n<p style="margin: 1rem 0px\; line-height: var(--body-font-line-height)\;">Tickets are non refundable\, non transferrable.</p>\n</div>\n</div>\n
LOCATION:The DAM Shop at Elk Rapids Marina 118 Bridge St Elk Rapids
UID:e.2409.39214
SEQUENCE:3
DTSTAMP:20260419T212221Z
URL:https://business.elkrapidschamber.org/events/details/diy-hat-bar-at-the-dam-shop-and-northwind-blooms-39214
END:VEVENT

END:VCALENDAR
