BEGIN:VCALENDAR
VERSION:2.0
PRODID:-//ChamberMaster//Event Calendar 2.0//EN
METHOD:PUBLISH
X-PUBLISHED-TTL:P3D
REFRESH-INTERVAL:P3D
CALSCALE:GREGORIAN
BEGIN:VEVENT
DTSTART:20230512T140000Z
DTEND:20230512T200000Z
X-MICROSOFT-CDO-ALLDAYEVENT:FALSE
SUMMARY:Display of Turned Wood Creations by Tom Clark
DESCRIPTION:
X-ALT-DESC;FMTTYPE=text/html:
LOCATION:Alden District Library 8751 Helene Rd. Alden
UID:e.2409.37736
SEQUENCE:3
DTSTAMP:20260420T035235Z
URL:https://business.elkrapidschamber.org/events/details/display-of-turned-wood-creations-by-tom-clark-05-12-2023-37736
END:VEVENT

END:VCALENDAR
