BEGIN:VCALENDAR
VERSION:2.0
PRODID:-//ChamberMaster//Event Calendar 2.0//EN
METHOD:PUBLISH
X-PUBLISHED-TTL:P3D
REFRESH-INTERVAL:P3D
CALSCALE:GREGORIAN
BEGIN:VEVENT
DTSTART:20240118T230000Z
DTEND:20240119T000000Z
X-MICROSOFT-CDO-ALLDAYEVENT:FALSE
SUMMARY:DIG Night @ BOS Wine- Sabores Y Colores
DESCRIPTION:Thursday\, January 18th\, 6:00-7:00pm\n\nWe are excited to partner with local chefs for some delicious local fare on alternating Thursday DIG Nights this winter! \n\nWe are partnering with Sabores Y Colores for our 1st event of the year on January 18th! Your ticket will include Shrimp Ceviche served with Tortilla Chips and a glass of BOS Riesling for $27. The event starts at 6pm\, we hope to see you there! Tickets are required and can be purchased HERE.
X-ALT-DESC;FMTTYPE=text/html:<p style="box-sizing: border-box\; margin: 1em 0px\; font-family: &quot\;trebuchet ms&quot\;\; font-size: 12px\;"><em style="box-sizing: border-box\;"><span style="box-sizing: border-box\;"><span style="box-sizing: border-box\; font-family: arial\, helvetica\, sans-serif\;"><span style="box-sizing: border-box\; font-size: 14px\;"><span style="box-sizing: border-box\; font-weight: bolder\;">Thursday\, January 18th\, 6:00-7:00pm</span></span></span></span></em><br style="box-sizing: border-box\;" />\n<span style="box-sizing: border-box\; font-family: arial\, helvetica\, sans-serif\;"><span style="box-sizing: border-box\; font-size: 14px\;">We are excited to partner with local chefs for some delicious local fare on alternating Thursday DIG Nights this winter!&nbsp\;</span></span></p>\n\n<p style="box-sizing: border-box\; margin: 1em 0px\; font-family: &quot\;trebuchet ms&quot\;\; font-size: 12px\;"><span style="box-sizing: border-box\; font-family: arial\, helvetica\, sans-serif\;"><span style="box-sizing: border-box\; font-size: 14px\;">We are partnering with&nbsp\;<a href="https://u2055856.ct.sendgrid.net/ls/click?upn=lkVIWMU5h-2BDWaQlKZsLI1bVfL90izDtHrTZ-2FFQG9QmXpBMUGn6vezDYEStvgS3LgE1izLRcB8NS-2BquO5hFzDq97TX2GLlRWvmdpz1Or-2BUnqCOCpAOPQ1Ri2-2F1lq18OrVJRJ04-2B11XKu67i09jvta5EWvnf6agjq11GQ4RiYCXiCLs7WhE0l5h-2FQMo-2B5S-2FF2joFH-2FtpPlEe0cHHBTaZ37q7GbieSNUfURS5o4-2FUQxuiZJusCuql5zzKedzo8My-2BFh3bsTZED70KZ6ye-2BXhS4kspHBEvwg6lJ-2BMaSvfHAgS5G1xwQjsxDGrPqXUyDN1yD3v8-2B3whaDzpjPvHyU8uew3WpVIzhMgVgeXE-2FfLJ7kAZ8-3Dk7BK_xAtMGaMkWf5emRe4bUHbNuTS2fuXcTQCeleXaWLQAGXH6WsoljrbCV5KeHW5zN6tSh-2BlzpiNqhVKu4k5-2BBt1Ea9unaHxDCf-2FIy5uL3cZWPf8IaJCHC7dNWE-2FtO0osihLZaj50QolA2B0a3g8BMUWhrnwnQArGkQ4ts0rtrgjp3-2BcTtL24H2NjiW1w8MqIp12I84H6l3e5wT7k5B8Njev3Wxv6qNmOFRJ2D-2BI8pfEk0pYHpSCSjb8cZ6Twv9Uh-2B-2FZ2y3WXwBtIK50FPAFJRR2KmER41TaQsochkPZmbduL8uPwKVtp8kCPSGqtiYY95-2B6C93wm0YyKMdKujaYLCZF1-2Blze5rzpe3KBRIncbIejgXkPwZ55MOZUh-2BUxgJyjJU9oqo7-2B-2Bbk7bukaOCg0yV9AknAoz0S5Vmm5-2F3aMlNOG8HQ-2F7hzdBeND7Xbz4ZUwJfEEn6TsddkjnDkYfypm1ifCg-3D-3D" rel="noreferrer" style="box-sizing: border-box\; color: rgb(255\, 102\, 0)\; text-decoration-line: none\;" target="_blank">Sabores Y Colores&nbsp\;</a>for our 1st event of the year on January 18th! Your ticket will include&nbsp\;<em style="box-sizing: border-box\;"><span style="box-sizing: border-box\; font-weight: bolder\;">Shrimp Ceviche served with Tortilla Chips and a glass of BOS Riesling</span></em>&nbsp\;for $27. The event starts at 6pm\, we hope to see you there! Tickets are required and can be purchased&nbsp\;<a href="https://u2055856.ct.sendgrid.net/ls/click?upn=lkVIWMU5h-2BDWaQlKZsLI1bVfL90izDtHrTZ-2FFQG9QmXpBMUGn6vezDYEStvgS3LgE1izLRcB8NS-2BquO5hFzDq97TX2GLlRWvmdpz1Or-2BUnqCOCpAOPQ1Ri2-2F1lq18OrVJRJ04-2B11XKu67i09jvta5EWvnf6agjq11GQ4RiYCXiCLs7WhE0l5h-2FQMo-2B5S-2FF2js93TreKLwqMsk1UD2xxtWB-2BXHkLBnlvolkhdE-2B69r9jB8ZKa-2FQK78vx9mRijH-2BCOyKnfHe6Y-2BmXfJfHk0I2FKHzEorn1U-2B3ssZOpH5VUvKGsZFoWsn7-2FPkWjaKolsPvtmKVKOeejQIGLKMlHzAQMb9U-2BjEElC2w8bMHqTGw3KOw-3DRKvz_xAtMGaMkWf5emRe4bUHbNuTS2fuXcTQCeleXaWLQAGXH6WsoljrbCV5KeHW5zN6tSh-2BlzpiNqhVKu4k5-2BBt1Ea9unaHxDCf-2FIy5uL3cZWPf8IaJCHC7dNWE-2FtO0osihLZaj50QolA2B0a3g8BMUWhrnwnQArGkQ4ts0rtrgjp3-2BcTtL24H2NjiW1w8MqIp12I84H6l3e5wT7k5B8Njev3Wxv6qNmOFRJ2D-2BI8pfEk0pYHpSCSjb8cZ6Twv9Uh-2B-2FZ2y3WXwBtIK50FPAFJRR2KmER41TaQsochkPZmbduL8uPwKVtp8kCPSGqtiYY95-2B6QWDfTaFGnXsbNUfX4lcGaSmddZskE-2BsaaqWRmcdbITM4XXhZAD8FXX7oxuryfe7jLcsajsbDJi9cDWQp-2BulcmURMa-2BRxvXyhXv-2Bg7T8hD5ZLlzHMryqUNDpoO8Ve6tKPM5ixkKINr7-2B7oBy1sg-2FyVw-3D-3D" rel="noreferrer" style="box-sizing: border-box\; color: rgb(255\, 102\, 0)\; text-decoration-line: none\;" target="_blank"><span style="box-sizing: border-box\; font-weight: bolder\;">HERE</span></a>.</span></span></p>\n
LOCATION:135 Ames Street Elk Rapids\, MI
UID:e.2409.41946
SEQUENCE:3
DTSTAMP:20260419T163326Z
URL:https://business.elkrapidschamber.org/events/details/dig-night-bos-wine-sabores-y-colores-41946
END:VEVENT

END:VCALENDAR
