BEGIN:VCALENDAR
VERSION:2.0
PRODID:-//ChamberMaster//Event Calendar 2.0//EN
METHOD:PUBLISH
X-PUBLISHED-TTL:P3D
REFRESH-INTERVAL:P3D
CALSCALE:GREGORIAN
BEGIN:VEVENT
DTSTART:20241004T143000Z
DTEND:20241004T160000Z
X-MICROSOFT-CDO-ALLDAYEVENT:FALSE
SUMMARY:Destination Story Time at Royal Farms
DESCRIPTION:Join the library at Royal Farms for story time and farm fun!
X-ALT-DESC;FMTTYPE=text/html:Join the library at Royal Farms for story time and farm fun!
LOCATION:Royal Farms\, 10445 US 31\, Ellsworth
UID:e.2409.45480
SEQUENCE:3
DTSTAMP:20260424T201538Z
URL:https://business.elkrapidschamber.org/events/details/destination-story-time-at-royal-farms-45480
END:VEVENT

END:VCALENDAR
