BEGIN:VCALENDAR
VERSION:2.0
PRODID:-//ChamberMaster//Event Calendar 2.0//EN
METHOD:PUBLISH
X-PUBLISHED-TTL:P3D
REFRESH-INTERVAL:P3D
CALSCALE:GREGORIAN
BEGIN:VEVENT
DTSTART:20231223T180000Z
DTEND:20231223T200000Z
X-MICROSOFT-CDO-ALLDAYEVENT:FALSE
SUMMARY:Decorative Glass Painting
DESCRIPTION:Decorative Glass Painting\n\nSaturday December 23rd\, 2023 - 1:00pm (2 hrs)\, $10 per person\, please pre-register\, limited space\n\nDo you hate to just pitch those attractive green olive oil bottles or crystal-clear jars?  We do. That's why Grass River Natural Area offers this class to show you how to paint decoratively on these containers\, so they become beautiful enough to reuse or even give away. Enjoy glass as your canvas as your recyclables become art. All materials supplied. Register Online Here.
X-ALT-DESC;FMTTYPE=text/html:<div>&nbsp\;</div>\n\n<div><strong style="font-family: Arial\, sans-serif\; font-size: small\; white-space-collapse: preserve\; background-color: rgb(255\, 255\, 255)\;">Decorative Glass Painting</strong><br style="font-family: Arial\, sans-serif\; font-size: small\; white-space-collapse: preserve\; background-color: rgb(255\, 255\, 255)\;" />\n<i style="font-family: Arial\, sans-serif\; font-size: small\; white-space-collapse: preserve\; background-color: rgb(255\, 255\, 255)\;">Saturda<wbr />y December 23rd\, 2023 - 1:00pm (2 hrs)\, $10 per person\, please pre-register\, limited space</i><br style="font-family: Arial\, sans-serif\; font-size: small\; white-space-collapse: preserve\; background-color: rgb(255\, 255\, 255)\;" />\n<span style="background-color: rgb(255\, 255\, 255)\;"><font face="Arial\, sans-serif" size="2"><span style="white-space-collapse: preserve\;">Do you hate to just pitch those attractive green olive oil bottles or crystal-clear jars?&nbsp\; We do. That&#39\;s why Grass River Natural Area offers this class to show you how to paint decoratively on these containers\, so they become beautiful enough to reuse or even give away. Enjoy glass as your canvas as your recyclables become art. All materials supplied.&nbsp\;</span></font></span><a href="https://www.google.com/url?q=https%3A%2F%2Fwww.grassriver.org%2Fclasses-and-programs.html&amp\;sa=D&amp\;ust=1702745460000000&amp\;usg=AOvVaw0IGSHJYrz1Mrq3JXM3O08f" style="font-family: Arial\, sans-serif\; font-size: small\; white-space-collapse: preserve\; background-color: rgb(255\, 255\, 255)\;" target="_blank"><u><u><u>Regis<wbr />ter Online Here.</u></u></u></a></div>\n
LOCATION:Grass River Natural Area 6500 Alden Hwy Bellaire
UID:e.2409.40345
SEQUENCE:3
DTSTAMP:20260419T175536Z
URL:https://business.elkrapidschamber.org/events/details/decorative-glass-painting-40345
END:VEVENT

END:VCALENDAR
