BEGIN:VCALENDAR
VERSION:2.0
PRODID:-//ChamberMaster//Event Calendar 2.0//EN
METHOD:PUBLISH
X-PUBLISHED-TTL:P3D
REFRESH-INTERVAL:P3D
CALSCALE:GREGORIAN
BEGIN:VEVENT
DTSTART:20240128T180000Z
DTEND:20240128T210000Z
X-MICROSOFT-CDO-ALLDAYEVENT:FALSE
SUMMARY:Dead On Tuning + Ethanology Ski/Snowboard Tuning Pop-Up
DESCRIPTION:Get the sticks/board tuned up just in time for the season (finally) for only $25!\n\nShanty Creek Resort's Dead On Tuning will be hosting a ski/snowboard tuning pop up shop at Ethanology Distillation on Sunday\, January 28 starting at 1:00pm.\n\nEnjoy a handcrafted cocktail while you wait for Shanty Creek's experienced technicians to get your skis/boards ready for the season with our Mississippi Half Step Sharpen/Wax for only $25!
X-ALT-DESC;FMTTYPE=text/html:<div class="xdj266r x11i5rnm xat24cr x1mh8g0r x1vvkbs" style="margin: 0px\; overflow-wrap: break-word\; font-family: &quot\;Segoe UI Historic&quot\;\, &quot\;Segoe UI&quot\;\, Helvetica\, Arial\, sans-serif\; color: rgb(5\, 5\, 5)\; font-size: 15px\; background-color: rgb(255\, 255\, 255)\;">Get the sticks/board tuned up just in time for the season (finally) for only $25!</div>\n\n<div class="x11i5rnm xat24cr x1mh8g0r x1vvkbs xtlvy1s" style="margin: 0.5em 0px 0px\; overflow-wrap: break-word\; font-family: &quot\;Segoe UI Historic&quot\;\, &quot\;Segoe UI&quot\;\, Helvetica\, Arial\, sans-serif\; color: rgb(5\, 5\, 5)\; font-size: 15px\; background-color: rgb(255\, 255\, 255)\;">Shanty Creek Resort&#39\;s Dead On Tuning will be hosting a ski/snowboard tuning pop up shop at Ethanology Distillation on Sunday\, January 28 starting at 1:00pm.</div>\n\n<div class="x11i5rnm xat24cr x1mh8g0r x1vvkbs xtlvy1s" style="margin: 0.5em 0px 0px\; overflow-wrap: break-word\; font-family: &quot\;Segoe UI Historic&quot\;\, &quot\;Segoe UI&quot\;\, Helvetica\, Arial\, sans-serif\; color: rgb(5\, 5\, 5)\; font-size: 15px\; background-color: rgb(255\, 255\, 255)\;">Enjoy a handcrafted cocktail while you wait for Shanty Creek&#39\;s experienced technicians to get your skis/boards ready for the season with our Mississippi Half Step Sharpen/Wax for only $25!</div>\n
LOCATION:127 Ames Street Elk Rapids\, MI
UID:e.2409.41942
SEQUENCE:3
DTSTAMP:20260419T134555Z
URL:https://business.elkrapidschamber.org/events/details/dead-on-tuning-ethanology-ski-snowboard-tuning-pop-up-41942
END:VEVENT

END:VCALENDAR
