BEGIN:VCALENDAR
VERSION:2.0
PRODID:-//ChamberMaster//Event Calendar 2.0//EN
METHOD:PUBLISH
X-PUBLISHED-TTL:P3D
REFRESH-INTERVAL:P3D
CALSCALE:GREGORIAN
BEGIN:VEVENT
DTSTART:20231231T000000Z
DTEND:20231231T010000Z
X-MICROSOFT-CDO-ALLDAYEVENT:FALSE
SUMMARY:David and Kaysen Chown Live in Concert at Music House
DESCRIPTION:The Music House welcomes David and Kaysen Chown Live in Concert at 7:00 PM\, 12/30/2023\n\nDavid and Kaysen Chown join forces for a special concert to benefit the Music House Museum. The two will be performing an evening of Holiday and Jazz Classics on Violin and Piano. Kaysen is a recent graduate of the University of Michigan\, where she majored in Performance Arts Technology. While at U of M\, she   was member of the Creative Arts Ensemble\, and the U of M Campus orchestra. Based out of Detroit now\, she performs regularly with the folk/rock ensemble Kingfisher\, which has one album out\, and another coming in the Spring. They played recently at the Music House to rave reviews. David is a well-known Traverse area pianist who owns and operates Lookout Music Productions\, is co-owner of MusicHub.Live\, and teaches audio technology at Northwestern Michigan College. He has released 5 albums of piano music\, and 3 albums with Miriam Pico\, and is a regular performer and supporter of the Music House Museum.\n\nGet tickets by clicking here at MyNorth Tickets or calling 231-938-3800
X-ALT-DESC;FMTTYPE=text/html:<p style="margin: 1.6em 0px\; padding: 0px\; border: 0px\; outline: 0px\; font-size: 18.4px\; vertical-align: baseline\; background: rgb(255\, 255\, 255)\; orphans: 4\; color: rgb(79\, 26\, 18)\; font-family: Calibri\, &quot\;Helvetica Neue&quot\;\, Helvetica\, Arial\, Verdana\, sans-serif\;">The Music House welcomes David and Kaysen Chown Live in Concert at 7:00 PM\, 12/30/2023</p>\n\n<p style="margin: 1.6em 0px\; padding: 0px\; border: 0px\; outline: 0px\; font-size: 18.4px\; vertical-align: baseline\; background: rgb(255\, 255\, 255)\; orphans: 4\; color: rgb(79\, 26\, 18)\; font-family: Calibri\, &quot\;Helvetica Neue&quot\;\, Helvetica\, Arial\, Verdana\, sans-serif\;">David and Kaysen Chown join forces for a special concert to benefit the Music House Museum. The two will be performing an evening of Holiday and Jazz Classics on Violin and Piano. Kaysen is a recent graduate of the University of Michigan\, where she majored in Performance Arts Technology. While at U of M\, she&nbsp\; &nbsp\;was member of the Creative Arts Ensemble\, and the U of M Campus orchestra. Based out of Detroit now\, she performs regularly with the folk/rock ensemble Kingfisher\, which has one album out\, and another coming in the Spring. They played recently at the Music House to rave reviews. David is a well-known Traverse area pianist who owns and operates Lookout Music Productions\, is co-owner of MusicHub.Live\, and teaches audio technology at Northwestern Michigan College. He has released 5 albums of piano music\, and 3 albums with Miriam Pico\, and is a regular performer and supporter of the Music House Museum.</p>\n\n<p style="margin: 1.6em 0px\; padding: 0px\; border: 0px\; outline: 0px\; font-size: 18.4px\; vertical-align: baseline\; background: rgb(255\, 255\, 255)\; orphans: 4\; color: rgb(79\, 26\, 18)\; font-family: Calibri\, &quot\;Helvetica Neue&quot\;\, Helvetica\, Arial\, Verdana\, sans-serif\;">Get tickets by clicking&nbsp\;<a href="https://mynorthtickets.com/events/the-music-house-welcomes-david-and-kaysen-chown-live-in-concert-at-700-pm-12302023-12-30-2023" style="margin: 0px\; padding: 0px\; border: 0px\; outline: 0px\; vertical-align: baseline\; background: transparent\; color: rgb(34\, 94\, 155)\; text-decoration-line: none\;">here at MyNorth Tickets</a>&nbsp\;or calling 231-938-3800</p>\n
LOCATION:
UID:e.2409.40305
SEQUENCE:3
DTSTAMP:20260419T180325Z
URL:https://business.elkrapidschamber.org/events/details/david-and-kaysen-chown-live-in-concert-at-music-house-40305
END:VEVENT

END:VCALENDAR
