BEGIN:VCALENDAR
VERSION:2.0
PRODID:-//ChamberMaster//Event Calendar 2.0//EN
METHOD:PUBLISH
X-PUBLISHED-TTL:P3D
REFRESH-INTERVAL:P3D
CALSCALE:GREGORIAN
BEGIN:VEVENT
DTSTART:20220524T160000Z
DTEND:20220524T180000Z
X-MICROSOFT-CDO-ALLDAYEVENT:FALSE
SUMMARY:Cyndie Roach\, Grand Traverse Butterfly House Annual Monarch Butterfly Migration
DESCRIPTION:Annual Monarch Butterfly Migration\n\nCyndie Roach is the curator of Grand Traverse Butterfly House & Bug Zoo in Williamsburg\, MI\, whose mission is to educate\, engage and entertain and where visitors are able to walk among the butterflies and learn about how they serve the environment. The Butterfly House and Bug Zoo also educates guests about invertebrates\, (not just insects)\, their purpose and usefulness\, along with the need for their preservation. Cyndie will describe the annal thousand-mile migration of monarch butterflies. Film of their spring departure from hibernation in Mexico and of their fall departure from Michigan will be shown.
X-ALT-DESC;FMTTYPE=text/html:Annual Monarch Butterfly Migration<br />\nCyndie Roach is the curator of Grand Traverse Butterfly House &amp\; Bug Zoo in Williamsburg\, MI\, whose mission is&nbsp\;to educate\, engage and entertain and where visitors are able to walk among the butterflies and learn about how&nbsp\;they serve the environment. The Butterfly House and Bug Zoo also educates guests about invertebrates\, (not&nbsp\;just insects)\, their purpose and usefulness\, along with the need for their preservation. Cyndie will describe the&nbsp\;annal thousand-mile migration of monarch butterflies. Film of their spring departure from hibernation in Mexico&nbsp\;and of their fall departure from Michigan will be shown.
LOCATION:At Elk Rapids Harbor Marina Cedar Street Elk Rapids MI 49629
UID:e.2409.28907
SEQUENCE:3
DTSTAMP:20260420T203024Z
URL:https://business.elkrapidschamber.org/events/details/cyndie-roach-grand-traverse-butterfly-house-annual-monarch-butterfly-migration-28907
END:VEVENT

END:VCALENDAR
