BEGIN:VCALENDAR
VERSION:2.0
PRODID:-//ChamberMaster//Event Calendar 2.0//EN
METHOD:PUBLISH
X-PUBLISHED-TTL:P3D
REFRESH-INTERVAL:P3D
CALSCALE:GREGORIAN
BEGIN:VEVENT
DTSTART:20190605T130000Z
DTEND:20190605T150000Z
X-MICROSOFT-CDO-ALLDAYEVENT:FALSE
SUMMARY:Cybersecurity Workshop
DESCRIPTION:Small businesses are at risk for cyber-attacks.  In fact\, small businesses are more vulnerable in many ways.  The workshop "Small Business\, Big Threat" will help business owners learn why cybersecurity is important and explore actionable ways in which they can protect themselves and their businesses.
X-ALT-DESC;FMTTYPE=text/html:Small businesses are at risk for cyber-attacks.&nbsp\; In fact\, small businesses are more vulnerable in many ways.&nbsp\; The workshop &quot\;Small Business\, Big Threat&quot\; will help business owners learn why cybersecurity is important and explore actionable ways in which they can protect themselves and their businesses.&nbsp\; &nbsp\;
LOCATION:NMC University Center Room 219 2200 Dendrinos Drive Traverse City
UID:e.2409.19741
SEQUENCE:3
DTSTAMP:20260425T105701Z
URL:https://business.elkrapidschamber.org/events/details/cybersecurity-workshop-19741
END:VEVENT

END:VCALENDAR
