BEGIN:VCALENDAR
VERSION:2.0
PRODID:-//ChamberMaster//Event Calendar 2.0//EN
METHOD:PUBLISH
X-PUBLISHED-TTL:P3D
REFRESH-INTERVAL:P3D
CALSCALE:GREGORIAN
BEGIN:VEVENT
DTSTART:20190921T160000Z
DTEND:20190921T220000Z
X-MICROSOFT-CDO-ALLDAYEVENT:FALSE
SUMMARY:Customer Appreciation @ Pine Hill Nursery
DESCRIPTION:We just love our customers!\n\nThank you for another wonderful season.\n\nJoin us Saturday\, September 21\, 2019 for\n\nCustomer Appreciation Day\n\nTorch Lake Location\n\nFall Container Demos\n\nAutumn Flower Arrangements\n\nMake and Take Succulent Containers\n\nWine Tasting 12-4\n\n \n\nTraverse City Location will be serving refreshments 4-6pm\n\n \n\nBoth locations will have other fabulous instore specials\n\nand door prize give-a-ways.\n\nThe Garden Cafe will be open from 9-5 with some delicious deals and specials.
X-ALT-DESC;FMTTYPE=text/html:<div align="center" style="font-family: Arial\, Verdana\, Helvetica\, sans-serif\; font-size: 14px\; background-color: rgb(162\, 217\, 228)\; text-align: center\;"><span style="font-size: 18px\; font-weight: bold\; font-family: &quot\;Lucida Sans Unicode&quot\;\, &quot\;Lucida Grande&quot\;\, sans-serif\;">We just love our customers!</span></div>\n\n<div align="center" style="font-family: Arial\, Verdana\, Helvetica\, sans-serif\; font-size: 14px\; background-color: rgb(162\, 217\, 228)\; text-align: center\;"><span style="font-size: 18px\; font-weight: bold\; font-family: &quot\;Lucida Sans Unicode&quot\;\, &quot\;Lucida Grande&quot\;\, sans-serif\;">Thank you for another wonderful season.</span></div>\n\n<div align="center" style="font-family: Arial\, Verdana\, Helvetica\, sans-serif\; font-size: 14px\; background-color: rgb(162\, 217\, 228)\; text-align: center\;"><span style="font-size: 18px\; font-weight: bold\; font-family: &quot\;Lucida Sans Unicode&quot\;\, &quot\;Lucida Grande&quot\;\, sans-serif\;">Join us Saturday\, September 21\, 2019 for</span></div>\n\n<div align="center" style="font-family: Arial\, Verdana\, Helvetica\, sans-serif\; font-size: 14px\; background-color: rgb(162\, 217\, 228)\; text-align: center\;"><span style="font-size: 36px\; text-decoration-line: underline\; font-style: italic\; font-family: &quot\;Lucida Sans Unicode&quot\;\, &quot\;Lucida Grande&quot\;\, sans-serif\;">Customer Appreciation Day</span></div>\n\n<div align="center" style="font-family: Arial\, Verdana\, Helvetica\, sans-serif\; font-size: 14px\; background-color: rgb(162\, 217\, 228)\; text-align: center\;"><span style="font-size: 16px\; text-decoration-line: underline\; font-weight: bold\; font-family: &quot\;Lucida Sans Unicode&quot\;\, &quot\;Lucida Grande&quot\;\, sans-serif\;">Torch Lake Location</span></div>\n\n<div align="center" style="font-family: Arial\, Verdana\, Helvetica\, sans-serif\; font-size: 14px\; background-color: rgb(162\, 217\, 228)\; text-align: center\;"><span style="font-size: 16px\; font-weight: bold\; font-family: &quot\;Lucida Sans Unicode&quot\;\, &quot\;Lucida Grande&quot\;\, sans-serif\;">Fall Container Demos</span></div>\n\n<div align="center" style="font-family: Arial\, Verdana\, Helvetica\, sans-serif\; font-size: 14px\; background-color: rgb(162\, 217\, 228)\; text-align: center\;"><span style="font-size: 16px\; font-weight: bold\; font-family: &quot\;Lucida Sans Unicode&quot\;\, &quot\;Lucida Grande&quot\;\, sans-serif\;">Autumn Flower Arrangements</span></div>\n\n<div align="center" style="font-family: Arial\, Verdana\, Helvetica\, sans-serif\; font-size: 14px\; background-color: rgb(162\, 217\, 228)\; text-align: center\;"><span style="font-size: 16px\; font-weight: bold\; font-family: &quot\;Lucida Sans Unicode&quot\;\, &quot\;Lucida Grande&quot\;\, sans-serif\;">Make and Take Succulent Containers</span></div>\n\n<div align="center" style="font-family: Arial\, Verdana\, Helvetica\, sans-serif\; font-size: 14px\; background-color: rgb(162\, 217\, 228)\; text-align: center\;"><span style="font-size: 16px\; font-weight: bold\; font-family: &quot\;Lucida Sans Unicode&quot\;\, &quot\;Lucida Grande&quot\;\, sans-serif\;">Wine Tasting 12-4</span></div>\n\n<div align="center" style="font-family: Arial\, Verdana\, Helvetica\, sans-serif\; font-size: 14px\; background-color: rgb(162\, 217\, 228)\; text-align: center\;">&nbsp\;</div>\n\n<div align="center" style="font-family: Arial\, Verdana\, Helvetica\, sans-serif\; font-size: 14px\; background-color: rgb(162\, 217\, 228)\; text-align: center\;"><span style="font-size: 16px\; font-weight: bold\; font-family: &quot\;Lucida Sans Unicode&quot\;\, &quot\;Lucida Grande&quot\;\, sans-serif\;">Traverse City Location will be serving refreshments 4-6pm</span></div>\n\n<div align="center" style="font-family: Arial\, Verdana\, Helvetica\, sans-serif\; font-size: 14px\; background-color: rgb(162\, 217\, 228)\; text-align: center\;">&nbsp\;</div>\n\n<div align="center" style="font-family: Arial\, Verdana\, Helvetica\, sans-serif\; font-size: 14px\; background-color: rgb(162\, 217\, 228)\; text-align: center\;"><span style="font-size: 16px\; font-weight: bold\; font-family: &quot\;Lucida Sans Unicode&quot\;\, &quot\;Lucida Grande&quot\;\, sans-serif\;">Both locations will have other fabulous instore specials</span></div>\n\n<div align="center" style="font-family: Arial\, Verdana\, Helvetica\, sans-serif\; font-size: 14px\; background-color: rgb(162\, 217\, 228)\; text-align: center\;"><span style="font-size: 16px\; font-weight: bold\; font-family: &quot\;Lucida Sans Unicode&quot\;\, &quot\;Lucida Grande&quot\;\, sans-serif\;">and door prize give-a-ways.</span></div>\n\n<div align="center" style="font-family: Arial\, Verdana\, Helvetica\, sans-serif\; font-size: 14px\; background-color: rgb(162\, 217\, 228)\; text-align: center\;"><span style="font-size: 16px\; font-weight: bold\;">The Garden Cafe will be open from 9-5 with some delicious deals and specials.</span></div>\n
LOCATION:Pine Hill Nursery Torch Lake Location & Traverse City Location
UID:e.2409.21829
SEQUENCE:3
DTSTAMP:20260423T210808Z
URL:https://business.elkrapidschamber.org/events/details/customer-appreciation-pine-hill-nursery-21829
END:VEVENT

END:VCALENDAR
