BEGIN:VCALENDAR
VERSION:2.0
PRODID:-//ChamberMaster//Event Calendar 2.0//EN
METHOD:PUBLISH
X-PUBLISHED-TTL:P3D
REFRESH-INTERVAL:P3D
CALSCALE:GREGORIAN
BEGIN:VEVENT
DTSTART:20230610T110000Z
DTEND:20230610T210000Z
X-MICROSOFT-CDO-ALLDAYEVENT:FALSE
SUMMARY:Curbside Pickup-Village of Elk Rapids
DESCRIPTION:Thoughout the Village\n\n\n\n\n	 \n	 \n\n\n(231) 264-9274\nSite NavigationHomeCommunity- Village of Elk Rapids-- Village History-- Village Map- Elk Rapids Township- Elk Rapids Public Schools- Historic Elk Rapids Town Hall Association- Elk Rapids District Library- Elk Rapids Area Historical Society- Elk Rapids Area Chamber of Commerce- Elk Rapids Garden Club- Elk Rapids Harbor Days- Green Elk Rapids- Elk Rapids News- Paddle AntrimCalendarGovernment- Village Council- Beautification Commission- Downtown Development Authority- Harbor Commission- Housing Commission- Parks & Recreation Commission- Planning Commission- Zoning Board of Appeals- UPPER LEVELS OF GOVERNMENTDepartments- Village Manager- Clerk- Planning and Zoning Administration- Elk Rapids Police Department- Department of Public Works- TreasurerCOMMISSION APPLICATIONDocuments- Agendas\, Minutes and Recordings-- Village Council--- Agenda and Minutes Archive--- Recordings Archive-- Beautification Commission--- Agenda and Minutes Archive--- Recordings Archive-- Downtown Development Authority--- Agenda and Minutes Archive--- Recordings Archive-- Harbor Commission--- Agenda and Minutes Archive--- Recordings Archive-- Housing Authority Commission--- Agenda and Minutes Archive--- Recordings Archive-- Parks & Recreation Commission--- Agenda and Minutes Archive--- Recordings Archive-- Planning Commission--- Agenda and Minutes Archive--- Recordings Archive-- Zoning Board of Appeals--- Agenda and Minutes Archive- Permit Application Forms- Budget Documents and Information- Codified Ordinances-- General Code of Ordinances-- Zoning Code- Collaborative Master Plan- Parks & Recreation- General Law Village ActServices- Guide to Village Services- Brush Pick-Up- Refuse and Recycling- Park Pavilion & Meeting Room ReservationsHarbor- Facilities- Amenities- Staff- Events- Harbor Map- Make Reservations- Seasonal Slips- Harbor Contact InfoCONTACT INFO\n\n\n\n \n\n\n\n\n\nANNUAL SPRING CLEAN UP AND HAZARDOUS WASTE DROP OFF\n\n\nMay 16\, 2020 curbside pickup\n\nIt is easier to indicate what will not be picked up:\n\nHazardous waste\, paint\, liquids\, bricks\, blocks\, shingles and\n\nanything that is too heavy for (2) individuals to pick up .i.e. no\n\npianos.\n\nEverything must be neatly placed and each item easily\n\naccessible. No piles.
X-ALT-DESC;FMTTYPE=text/html:Thoughout the Village\n<div id="header-wrapper" style="margin: 0px\; padding: 0px\; border: 0px\; border-collapse: separate\; border-spacing: 0px\; font-weight: 400\; font-style: normal\; font-size: 12px\; text-decoration: none\; color: rgb(103\, 103\, 103)\; font-family: Helvetica\, Arial\, sans-serif\; font-variant-ligatures: normal\; font-variant-caps: normal\; letter-spacing: normal\; orphans: 2\; text-align: start\; text-indent: 0px\; text-transform: none\; white-space: normal\; widows: 2\; word-spacing: 0px\; -webkit-text-stroke-width: 0px\; background-color: rgb(248\, 248\, 248)\;">\n<div class="header clear" style="margin: 0px\; padding: 0px\; border-width: 0px 0px 2px\; border-top-style: initial\; border-right-style: initial\; border-bottom-style: solid\; border-left-style: initial\; border-top-color: initial\; border-right-color: initial\; border-bottom-color: rgb(238\, 238\, 238)\; border-left-color: initial\; border-image: initial\; border-collapse: separate\; border-spacing: 0px\; font-weight: inherit\; font-style: inherit\; font-size: 12px\; text-decoration: none\; width: 960px\; position: relative\;">\n<div id="primary-menu" style="margin: 0px\; padding: 0px\; border: 0px\; border-collapse: separate\; border-spacing: 0px\; font-weight: inherit\; font-style: inherit\; font-size: 12px\; text-decoration: none\; float: right\;">\n<ul class="menu sf-js-enabled sf-shadow" id="menu-top-menu" style="padding: 30px 0px\; margin: 0px\; border: 0px\; border-collapse: separate\; border-spacing: 0px\; font-weight: inherit\; font-style: inherit\; font-size: 12px\; text-decoration: none\; display: block\; z-index: 500\; list-style-type: none\; float: right\;">\n	<li -153px="" ..="" class="menu-item menu-item-type-post_type menu-item-object-page menu-item-home menu-item-1635" id="menu-item-1635" images="" no-repeat="" right="" scroll="" style="line-height: 20px\; margin: 0px 0px 0px -1px\; padding: 0px\; border: 0px\; border-collapse: separate\; border-spacing: 0px\; font-weight: inherit\; font-style: inherit\; font-size: 12px\; text-decoration: none\; position: relative\; display: inline\; float: left\; background: url("><a href="https://www.elkrapids.org/" style="color: rgb(103\, 103\, 103)\; text-decoration: none\; margin: 0px\; padding: 17px 15px\; border: 0px\; border-collapse: separate\; border-spacing: 0px\; font-weight: 400\; font-style: inherit\; font-size: 13px\; transition: color 0.25s ease-in 0s\; outline: none\; font-family: Oswald\, sans-serif\; text-transform: uppercase\; display: block\; float: left\;">&nbsp\;</a></li>\n	<li class="menu-item menu-item-type-post_type menu-item-object-page menu-item-6730" id="menu-item-6730" style="line-height: 20px\; margin: 0px 0px 0px -1px\; padding: 0px\; border: 0px\; border-collapse: separate\; border-spacing: 0px\; font-weight: inherit\; font-style: inherit\; font-size: 12px\; text-decoration: none\; position: relative\; display: inline\; float: left\; background: none\;">&nbsp\;</li>\n</ul>\n\n<h4 class="phone-header" style="margin: 0px 0px 15px\; font-family: inherit\; font-weight: normal\; line-height: 25px\; color: inherit\; text-rendering: optimizelegibility\; font-size: 15px\; padding: 0px\; border: 0px\; border-collapse: separate\; border-spacing: 0px\; font-style: inherit\; text-decoration: none\; clear: both\; position: absolute\; right: 20px\; top: 8px\;"><a href="tel:2312649274" style="color: rgb(233\, 160\, 0)\; text-decoration: none\; margin: 0px\; padding: 0px\; border: 0px\; border-collapse: separate\; border-spacing: 0px\; font-weight: inherit\; font-style: inherit\; font-size: 15px\; transition: color 0.25s ease-in 0s\; outline: none\;">(231) 264-9274</a></h4>\n<select style="margin: 38px 0px\; font-size: 12px\; vertical-align: middle\; cursor: pointer\; font-weight: normal\; line-height: 30px\; font-family: Helvetica\, Arial\, sans-serif\; display: none\; height: 30px\; padding: 7px\; color: rgb(103\, 103\, 103)\; border-radius: 2px\; width: 100%\; border: 1px solid rgb(238\, 238\, 238)\; background: none 0px 0px repeat scroll rgb(255\, 255\, 255)\; outline: none medium\; transition: all 0.2s ease-out 0s\;"><option selected="selected" value="">Site Navigation</option><option value="https://www.elkrapids.org/">Home</option><option value="#">Community</option><option value="https://www.elkrapids.org/elk-rapids/">- Village of Elk Rapids</option><option value="https://www.elkrapids.org/elk-rapids/village-history/">-- Village History</option><option value="https://www.elkrapids.org/elk-rapids/village-map/">-- Village Map</option><option value="http://elkrapids.com/TOWNSHIP/index.html">- Elk Rapids Township</option><option value="http://www.erschools.com/">- Elk Rapids Public Schools</option><option value="http://www.ertownhall.org/">- Historic Elk Rapids Town Hall Association</option><option value="http://www.elkrapidslibrary.org/">- Elk Rapids District Library</option><option value="http://elkrapidshistory.org/">- Elk Rapids Area Historical Society</option><option value="http://www.elkrapidschamber.org/">- Elk Rapids Area Chamber of Commerce</option><option value="http://www.elkrapidsgardenclub.com/">- Elk Rapids Garden Club</option><option value="http://www.elkrapidsharbordays.org/">- Elk Rapids Harbor Days</option><option value="http://www.greenelkrapids.org/">- Green Elk Rapids</option><option value="http://www.elkrapidsnews.com/">- Elk Rapids News</option><option value="http://www.paddleantrim.com/">- Paddle Antrim</option><option value="https://www.elkrapids.org/calendar/">Calendar</option><option value="#">Government</option><option value="https://www.elkrapids.org/village-council/">- Village Council</option><option value="https://www.elkrapids.org/beautification-commission/">- Beautification Commission</option><option value="https://www.elkrapids.org/downtown-development-authority/">- Downtown Development Authority</option><option value="https://www.elkrapids.org/harbor-commission-2/">- Harbor Commission</option><option value="https://www.elkrapids.org/housing-authority-commission/">- Housing Commission</option><option value="https://www.elkrapids.org/parks-recreation-commission/">- Parks &amp\; Recreation Commission</option><option value="https://www.elkrapids.org/planning-commission/">- Planning Commission</option><option value="https://www.elkrapids.org/zoning-board-appeals-2/">- Zoning Board of Appeals</option><option value="https://www.elkrapids.org/upper-levels-government/">- UPPER LEVELS OF GOVERNMENT</option><option value="#">Departments</option><option value="https://www.elkrapids.org/village-manager/">- Village Manager</option><option value="https://www.elkrapids.org/clerk/">- Clerk</option><option value="https://www.elkrapids.org/planning-zoning/">- Planning and Zoning Administration</option><option value="https://www.elkrapids.org/police/">- Elk Rapids Police Department</option><option value="https://www.elkrapids.org/public-works/">- Department of Public Works</option><option value="https://www.elkrapids.org/treasurer/">- Treasurer</option><option value="https://www.elkrapids.org/blog/">COMMISSION APPLICATION</option><option value="#">Documents</option><option value="https://www.elkrapids.org/agendas-minutes/">- Agendas\, Minutes and Recordings</option><option value="#">-- Village Council</option><option value="https://www.elkrapids.org/village-council-3/">--- Agenda and Minutes Archive</option><option value="https://www.elkrapids.org/village-council-recordings-archive/">--- Recordings Archive</option><option value="#">-- Beautification Commission</option><option value="https://www.elkrapids.org/beautification-commision/">--- Agenda and Minutes Archive</option><option value="https://www.elkrapids.org/beautification-commission-meeting-recordings-archive/">--- Recordings Archive</option><option value="#">-- Downtown Development Authority</option><option value="https://www.elkrapids.org/downtown-development-authority-2/">--- Agenda and Minutes Archive</option><option value="https://www.elkrapids.org/dda-recordings-archive/">--- Recordings Archive</option><option value="#">-- Harbor Commission</option><option value="https://www.elkrapids.org/harbor-commission/">--- Agenda and Minutes Archive</option><option value="https://www.elkrapids.org/harbor-commission-meeting-recordings-archive/">--- Recordings Archive</option><option value="#">-- Housing Authority Commission</option><option value="https://www.elkrapids.org/housing-authority-commission-2/">--- Agenda and Minutes Archive</option><option value="https://www.elkrapids.org/housing-commission-meeting-recordings-archive/">--- Recordings Archive</option><option value="#">-- Parks &amp\; Recreation Commission</option><option value="https://www.elkrapids.org/parks-recreation-commission-agenda-minutes-archive/">--- Agenda and Minutes Archive</option><option value="https://www.elkrapids.org/parks-recreation-commission-meeting-recordings-archive/">--- Recordings Archive</option><option value="#">-- Planning Commission</option><option value="https://www.elkrapids.org/planning-commission-agenda-minutes-archive/">--- Agenda and Minutes Archive</option><option value="https://www.elkrapids.org/p/">--- Recordings Archive</option><option value="#">-- Zoning Board of Appeals</option><option value="https://www.elkrapids.org/zoning-board-appeals/">--- Agenda and Minutes Archive</option><option value="https://www.elkrapids.org/permit-application-forms-2/">- Permit Application Forms</option><option value="https://www.elkrapids.org/budget-documents-information/">- Budget Documents and Information</option><option value="#">- Codified Ordinances</option><option value="http://library.municode.com/index.aspx?clientId=13263">-- General Code of Ordinances</option><option value="https://www.elkrapids.org/wp-content/uploads/2018/02/ADOPTED-ZONING-CODE-2018.pdf">-- Zoning Code</option><option value="https://www.elkrapids.org/collaborative-master-plan/">- Collaborative Master Plan</option><option value="https://www.elkrapids.org/parks-recreation-documents/">- Parks &amp\; Recreation</option><option value="https://www.elkrapids.org/village-charter/">- General Law Village Act</option><option value="#">Services</option><option value="https://www.elkrapids.org/guide-village-services/">- Guide to Village Services</option><option value="https://www.elkrapids.org/yard-waste-leaf-pick-up/">- Brush Pick-Up</option><option value="https://www.elkrapids.org/refuse-recycling/">- Refuse and Recycling</option><option value="https://www.elkrapids.org/park-pavilion-meeting-room-reservations/">- Park Pavilion &amp\; Meeting Room Reservations</option><option value="https://www.elkrapids.org/harbor/">Harbor</option><option value="https://www.elkrapids.org/harbor/facilities/">- Facilities</option><option value="https://www.elkrapids.org/harbor/amenities/">- Amenities</option><option value="https://www.elkrapids.org/harbor/staff/">- Staff</option><option value="https://www.elkrapids.org/harbor/events/">- Events</option><option value="https://www.elkrapids.org/harbor/harbor-map/">- Harbor Map</option><option value="https://www.elkrapids.org/harbor/reservations/">- Make Reservations</option><option value="https://www.elkrapids.org/harbor/seasonal-slips/">- Seasonal Slips</option><option value="https://www.elkrapids.org/harbor/contact/">- Harbor Contact Info</option><option value="https://www.elkrapids.org/contact-information/">CONTACT INFO</option></select></div>\n</div>\n</div>\n\n<div class="divider" style="margin: 0px\; padding: 0px\; border: 0px\; border-collapse: separate\; border-spacing: 0px\; font-weight: 400\; font-style: normal\; font-size: 12px\; text-decoration: none\; float: left\; width: 960px\; height: 40px\; color: rgb(103\, 103\, 103)\; font-family: Helvetica\, Arial\, sans-serif\; font-variant-ligatures: normal\; font-variant-caps: normal\; letter-spacing: normal\; orphans: 2\; text-align: start\; text-indent: 0px\; text-transform: none\; white-space: normal\; widows: 2\; word-spacing: 0px\; -webkit-text-stroke-width: 0px\; background-color: rgb(248\, 248\, 248)\;">&nbsp\;</div>\n\n<div class="blog1" id="inner-content" style="margin: 0px\; padding: 0px\; border: 0px\; border-collapse: separate\; border-spacing: 0px\; font-style: normal\; font-size: 12px\; text-decoration: none\; width: 700px\; float: left\; color: rgb(103\, 103\, 103)\; font-family: Helvetica\, Arial\, sans-serif\; font-variant-ligatures: normal\; font-variant-caps: normal\; letter-spacing: normal\; orphans: 2\; text-align: start\; text-indent: 0px\; text-transform: none\; white-space: normal\; widows: 2\; word-spacing: 0px\; -webkit-text-stroke-width: 0px\; background-color: rgb(248\, 248\, 248)\;">\n<div class="post-10625 post type-post status-publish format-standard hentry category-news-announcements category-uncategorized" id="post-10625" style="margin: 0px\; padding: 0px\; border-top: 0px\; border-right: 0px\; border-bottom: none\; border-left: 0px\; border-image: initial\; border-collapse: separate\; border-spacing: 0px\; font-style: inherit\; font-size: 12px\; text-decoration: none\; overflow: hidden\;">\n<div class="post-content" style="margin: 0px\; padding: 0px\; border: 0px\; border-collapse: separate\; border-spacing: 0px\; font-style: inherit\; font-size: 12px\; text-decoration: none\; width: 600px\; float: left\;">\n<div class="post-title" style="font-weight: inherit\; margin: 0px\; padding: 0px\; border: 0px\; border-collapse: separate\; border-spacing: 0px\; font-style: inherit\; font-size: 12px\; text-decoration: none\; display: block\;">\n<h2 class="title" style="margin: 0px\; font-family: Oswald\, sans-serif\; font-weight: 700\; line-height: 28px\; color: rgb(103\, 103\, 103)\; text-rendering: optimizelegibility\; font-size: 22px\; padding: 0px\; border: 0px\; border-collapse: separate\; border-spacing: 0px\; font-style: inherit\; text-decoration: none\; clear: both\; text-transform: uppercase\; word-spacing: 5px\;"><a href="https://www.elkrapids.org/annual-curb-side-pickup/" style="color: rgb(48\, 142\, 122)\; text-decoration: none\; margin: 0px\; padding: 0px\; border: 0px\; border-collapse: separate\; border-spacing: 0px\; font-weight: 700\; font-style: inherit\; font-size: 22px\; transition: all 0.14s ease 0s\; outline: none\; font-family: Oswald\, sans-serif\; line-height: 28px\; text-transform: uppercase\; word-spacing: 5px\;">ANNUAL SPRING CLEAN UP AND HAZARDOUS WASTE DROP OFF</a></h2>\n</div>\n\n<p style="font-weight: inherit\; margin: 0px 0px 14px\; padding: 0px\; border: 0px\; border-collapse: separate\; border-spacing: 0px\; font-style: inherit\; font-size: 12px\; text-decoration: none\;"><strong style="font-weight: bold\; margin: 0px\; padding: 0px\; border: 0px\; border-collapse: separate\; border-spacing: 0px\; font-style: inherit\; font-size: 12px\; text-decoration: none\;">May 16\, 2020 curbside pickup</strong></p>\n\n<p style="font-weight: inherit\; margin: 0px 0px 14px\; padding: 0px\; border: 0px\; border-collapse: separate\; border-spacing: 0px\; font-style: inherit\; font-size: 12px\; text-decoration: none\;">It is easier to indicate what will<span>&nbsp\;</span><strong style="font-weight: bold\; margin: 0px\; padding: 0px\; border: 0px\; border-collapse: separate\; border-spacing: 0px\; font-style: inherit\; font-size: 12px\; text-decoration: none\;">not be</strong><span>&nbsp\;</span>picked up:</p>\n\n<p style="font-weight: inherit\; margin: 0px 0px 14px\; padding: 0px\; border: 0px\; border-collapse: separate\; border-spacing: 0px\; font-style: inherit\; font-size: 12px\; text-decoration: none\;">Hazardous waste\, paint\, liquids\, bricks\, blocks\, shingles and<br />\nanything that is too heavy for (2) individuals to pick up&hellip\;.i.e. no<br />\npianos.<br />\nEverything must be neatly placed and each item easily<br />\naccessible. No piles.</p>\n\n<p style="margin: 0px\; padding: 0px\; border: 0px\; border-collapse: separate\; border-spacing: 0px\; font-style: inherit\; font-size: 12px\; text-decoration: none\;"><b>&nbsp\;</b></p>\n</div>\n</div>\n</div>\n
LOCATION:
UID:e.2409.36404
SEQUENCE:3
DTSTAMP:20260420T010525Z
URL:https://business.elkrapidschamber.org/events/details/curbside-pickup-village-of-elk-rapids-36404
END:VEVENT

END:VCALENDAR
