BEGIN:VCALENDAR
VERSION:2.0
PRODID:-//ChamberMaster//Event Calendar 2.0//EN
METHOD:PUBLISH
X-PUBLISHED-TTL:P3D
REFRESH-INTERVAL:P3D
CALSCALE:GREGORIAN
BEGIN:VEVENT
DTSTART:20190808T140000Z
DTEND:20190808T153000Z
X-MICROSOFT-CDO-ALLDAYEVENT:FALSE
SUMMARY:Create with Clay
DESCRIPTION:Join us in this popular pottery class where we use clay to make pinch pots\, native animals\, & more. We'll also use some natural clay from the creek. This class is appropriate for all ages. $8\, must pre-register. Grass River Natural Area\, 6500 Alden Hwy\, Bellaire\, MI 49615. More information at www.grassriver.org.
X-ALT-DESC;FMTTYPE=text/html:<span class="yiv3216539019event-description" style="color: rgb(29\, 34\, 40)\; font-family: &quot\;Helvetica Neue&quot\;\, Helvetica\, Arial\, sans-serif\; font-size: 13px\;"><span style="font-size: 12pt\; color: black\;">Join us in this popular pottery class where we use clay to make pinch pots\, native animals\, &amp\; more. We&rsquo\;ll also use some natural clay from the creek.</span>&nbsp\;This class is appropriate for all ages. $8\, must pre-register.&nbsp\;</span><span class="yiv3216539019event-where" style="color: rgb(29\, 34\, 40)\; font-family: &quot\;Helvetica Neue&quot\;\, Helvetica\, Arial\, sans-serif\; font-size: 13px\;"><span style="font-size: 12pt\; color: black\;">Grass River Natural Area\, 6500 Alden Hwy\, Bellaire\, MI 49615. More information at www.grassriver.org.</span></span>
LOCATION:Grass River Natural Area 6500 Alden Hwy\, Bellaire\, MI 49615
UID:e.2409.20519
SEQUENCE:3
DTSTAMP:20260423T021412Z
URL:https://business.elkrapidschamber.org/events/details/create-with-clay-20519
END:VEVENT

END:VCALENDAR
