BEGIN:VCALENDAR
VERSION:2.0
PRODID:-//ChamberMaster//Event Calendar 2.0//EN
METHOD:PUBLISH
X-PUBLISHED-TTL:P3D
REFRESH-INTERVAL:P3D
CALSCALE:GREGORIAN
BEGIN:VEVENT
DTSTART:20190627T140000Z
DTEND:20190627T160000Z
X-MICROSOFT-CDO-ALLDAYEVENT:FALSE
SUMMARY:Create with Clay
DESCRIPTION:Join us in this popular pottery class where we use clay to make pinch pots\, native animals\, & more. We'll also use some natural clasy from the creek.
X-ALT-DESC;FMTTYPE=text/html:<span style="color: rgb(0\, 0\, 0)\; text-transform: none\; text-indent: 0px\; letter-spacing: normal\; font-family: Arial\, sans-serif\; font-size: small\; font-style: normal\; font-weight: normal\; word-spacing: 0px\; float: none\; display: inline !important\; white-space: pre-wrap\; orphans: 2\; widows: 2\; background-color: rgb(255\, 255\, 255)\; font-variant-ligatures: normal\; font-variant-caps: normal\; -webkit-text-stroke-width: 0px\; text-decoration-style: initial\; text-decoration-color: initial\;">Join us in this popular pottery class where we use clay to make pinch pots\, native animals\, &amp\; more. We&#39\;ll also use some natural clasy from the creek.</span>
LOCATION:Grass River Natural Area 6500 Alden Hwy\, Bellaire\, MI 49615
UID:e.2409.18574
SEQUENCE:3
DTSTAMP:20260425T014638Z
URL:https://business.elkrapidschamber.org/events/details/create-with-clay-18574
END:VEVENT

END:VCALENDAR
