BEGIN:VCALENDAR
VERSION:2.0
PRODID:-//ChamberMaster//Event Calendar 2.0//EN
METHOD:PUBLISH
X-PUBLISHED-TTL:P3D
REFRESH-INTERVAL:P3D
CALSCALE:GREGORIAN
BEGIN:VEVENT
DTSTART:20190316T173000Z
DTEND:20190316T190000Z
X-MICROSOFT-CDO-ALLDAYEVENT:FALSE
SUMMARY:Craft-a-teria: an Open Studio with a Theme
DESCRIPTION:"Spring Ahead\, Move Forward"   Examples\, supplies and space provided for crafts that will help refresh and rew...yourself\, your house\, your yard...just in time for the return of the sun.
X-ALT-DESC;FMTTYPE=text/html:&quot\;Spring Ahead\, Move Forward&quot\;&nbsp\; &nbsp\;Examples\, supplies and space provided for crafts that will help refresh and rew...yourself\, your house\, your yard...just in time for the return of the sun.
LOCATION:300 Isles of Pines Elk Rapids
UID:e.2409.18290
SEQUENCE:3
DTSTAMP:20260426T002338Z
URL:https://business.elkrapidschamber.org/events/details/craft-a-teria-an-open-studio-with-a-theme-18290
END:VEVENT

END:VCALENDAR
