BEGIN:VCALENDAR
VERSION:2.0
PRODID:-//ChamberMaster//Event Calendar 2.0//EN
METHOD:PUBLISH
X-PUBLISHED-TTL:P3D
REFRESH-INTERVAL:P3D
CALSCALE:GREGORIAN
BEGIN:VEVENT
DTSTART:20201013T170000Z
DTEND:20201013T180000Z
X-MICROSOFT-CDO-ALLDAYEVENT:FALSE
SUMMARY:Consumers Energy Virtual Open House
DESCRIPTION:MICHIGANDERS CAN GIVE ENERGY INPUT AT VIRTUAL OPEN HOUSES\n\nYou're invited to participate in the third in a series of virtual public open houses hosted by Consumers Energy to gather suggestions for its Clean Energy Plan.  The plan eliminates coal and helps achieve net zero carbon emissions by 2040.\n\nAt the open houses\, Consumers Energy wants to learn what's most important to their customers and key stakeholders and to learn their vision of the state's energy future. \n\nThe third session will be Tue. Oct. 13 at 1:00 p.m. and will focus on Protecting our Planet.  To participate in the open house\, visit www.MICleanEnergy.com for links to join the event.  The open house is scheduled to last 45-minutes.\n\nThe final open house will be held:  \n\n	1:30 p.m. Tuesday\, Nov. 10: A Smarter Energy Future\n\nThe public input will help inform Consumers Energy's suggested Clean Energy Plan updates to the Michigan Public Service Commission in June 2021.
X-ALT-DESC;FMTTYPE=text/html:&nbsp\;<span style="font-size:14.0pt\;">MICHIGANDERS CAN GIVE ENERGY INPUT AT VIRTUAL OPEN HOUSES</span><br />\nYou&rsquo\;re invited to participate in the third in a series of virtual public open houses hosted by Consumers Energy to gather suggestions for its <a href="https://www.consumersenergy.com/-/media/CE/Documents/sustainability/integrated-resource-plan-summary.ashx?la=en&amp\;hash=9F602E19FE385367FA25C66B6779532142CBD374&amp\;hash=9F602E19FE385367FA25C66B6779532142CBD374">Clean Energy Plan</a>.&nbsp\; The plan eliminates coal and helps achieve net zero carbon emissions by 2040.<br />\nAt the open houses\, Consumers Energy wants to learn what&rsquo\;s most important to their customers and key stakeholders and to learn their vision of the state&rsquo\;s energy future.&nbsp\;<br />\nThe third session will be <strong>Tue. Oct. 13 at 1:00 p.m.</strong> and will focus on Protecting our Planet.&nbsp\; To participate in the open house\, visit <a href="http://www.micleanenergy.com/">www.MICleanEnergy.com</a> for links to join the event.&nbsp\; The open house is scheduled to last 45-minutes.<br />\nThe final open house will be held:&nbsp\;&nbsp\;\n<ul>\n	<li>1:30 p.m. Tuesday\, Nov. 10: A Smarter Energy Future</li>\n</ul>\nThe public input will help inform Consumers Energy&rsquo\;s suggested Clean Energy Plan updates to the Michigan Public Service Commission in June 2021.
LOCATION:
UID:e.2409.24103
SEQUENCE:3
DTSTAMP:20260422T025156Z
URL:https://business.elkrapidschamber.org/events/details/consumers-energy-virtual-open-house-24103
END:VEVENT

END:VCALENDAR
