BEGIN:VCALENDAR
VERSION:2.0
PRODID:-//ChamberMaster//Event Calendar 2.0//EN
METHOD:PUBLISH
X-PUBLISHED-TTL:P3D
REFRESH-INTERVAL:P3D
CALSCALE:GREGORIAN
BEGIN:VEVENT
DTSTART:20190915T180000Z
DTEND:20190915T193000Z
X-MICROSOFT-CDO-ALLDAYEVENT:FALSE
SUMMARY:Conservation Kids:Fall Fun
DESCRIPTION:The Antrim Conservation District will lead kids on a fall learning adventure on the Island! Have fun and learn at the same time. You will even be making "Seed Balls"! Dress for the weather Children 5 and under must be accompanied by an adult.
X-ALT-DESC;FMTTYPE=text/html:The Antrim Conservation District will lead kids on a fall learning adventure on the Island! Have fun and learn at the same time. You will even be making &ldquo\;Seed Balls&rdquo\;! Dress for the weather Children 5 and under must be accompanied by an adult.
LOCATION:ERDL Grounds
UID:e.2409.20685
SEQUENCE:3
DTSTAMP:20260423T002231Z
URL:https://business.elkrapidschamber.org/events/details/conservation-kids-fall-fun-20685
END:VEVENT

END:VCALENDAR
