BEGIN:VCALENDAR
VERSION:2.0
PRODID:-//ChamberMaster//Event Calendar 2.0//EN
METHOD:PUBLISH
X-PUBLISHED-TTL:P3D
REFRESH-INTERVAL:P3D
CALSCALE:GREGORIAN
BEGIN:VEVENT
DTSTART:20260423T213000Z
DTEND:20260423T233000Z
X-MICROSOFT-CDO-ALLDAYEVENT:FALSE
SUMMARY:Composting and Recycling
DESCRIPTION:Learn more about composting and recycling
X-ALT-DESC;FMTTYPE=text/html:Learn more about composting and recycling
LOCATION:
UID:e.2409.52750
SEQUENCE:3
DTSTAMP:20260423T090129Z
URL:https://business.elkrapidschamber.org/events/details/composting-and-recycling-52750
END:VEVENT

END:VCALENDAR
