BEGIN:VCALENDAR
VERSION:2.0
PRODID:-//ChamberMaster//Event Calendar 2.0//EN
METHOD:PUBLISH
X-PUBLISHED-TTL:P3D
REFRESH-INTERVAL:P3D
CALSCALE:GREGORIAN
BEGIN:VEVENT
DTSTART:20190309T003000Z
DTEND:20190309T023000Z
X-MICROSOFT-CDO-ALLDAYEVENT:FALSE
SUMMARY:Community Trivia Night
DESCRIPTION:Questions about everything....from hip hop to hip replacement!\n\nCash prizes\, Door Prizes\, Cash Bar\n\nSponsored\, written\, and performed by ER Players\n\nAll funds go to HERTHA
X-ALT-DESC;FMTTYPE=text/html:Questions about everything....from hip hop to hip replacement!<br />\nCash prizes\, Door Prizes\, Cash Bar<br />\nSponsored\, written\, and performed&nbsp\;by ER Players<br />\nAll funds go to HERTHA
LOCATION:Historic Elk Rapids Town Hall 401 River Street Elk Rapids
UID:e.2409.18289
SEQUENCE:3
DTSTAMP:20260425T221800Z
URL:https://business.elkrapidschamber.org/events/details/community-trivia-night-18289
END:VEVENT

END:VCALENDAR
