BEGIN:VCALENDAR
VERSION:2.0
PRODID:-//ChamberMaster//Event Calendar 2.0//EN
METHOD:PUBLISH
X-PUBLISHED-TTL:P3D
REFRESH-INTERVAL:P3D
CALSCALE:GREGORIAN
BEGIN:VEVENT
DTSTART:20231223T180000Z
DTEND:20231224T030000Z
X-MICROSOFT-CDO-ALLDAYEVENT:FALSE
SUMMARY:Community Potluck at Ethanology
DESCRIPTION:Annual Christmas Eve Eve potluck. Bring a dish\, or don't\, grab a White Russian\, relax\, and converse with your community. We will also be offering a Holiday bottle sale\, Thursday-Saturday with 20% off spirits (excludes special releases). \n\n Musical performance will be provided by @trent_breit 7-10pm.
X-ALT-DESC;FMTTYPE=text/html:<p style="margin: 0px\; padding: 0px\; font-family: Arial\, Verdana\, Helvetica\, sans-serif\; font-size: 12px\; white-space-collapse: preserve\; background-color: rgb(232\, 202\, 143)\;"><span style="font-size: 13px\; color: rgb(5\, 5\, 5)\;">Annual Christmas Eve Eve potluck. Bring a dish\, or don&rsquo\;t\, grab a White Russian\, relax\, and converse with your community. We will also be offering a Holiday bottle sale\, Thursday-Saturday with 20% off spirits (excludes special releases). </span></p>\n\n<p style="margin: 0px\; padding: 0px\; font-family: Arial\, Verdana\, Helvetica\, sans-serif\; font-size: 12px\; white-space-collapse: preserve\; background-color: rgb(232\, 202\, 143)\;"><span style="font-size: 13px\; color: rgb(5\, 5\, 5)\;"><span class="ql-cursor">&#65279\;</span>Musical performance will be provided by </span><a href="https://www.instagram.com/_u/trent_breit?fbclid=IwAR3gH0Vd_ms050n0i7NqKio4XRdtlM45FDjcFgddfkP-PJ_GGbFi-0PIK8E" style="text-decoration-line: none\; color: rgb(5\, 5\, 5)\; font-size: 13px\;" target="_blank">@trent_breit</a><span style="font-size: 13px\; color: rgb(5\, 5\, 5)\;"> 7-10pm.&#8291\;&#8291\;</span></p>\n
LOCATION:127 Ames Street Elk Rapids
UID:e.2409.40403
SEQUENCE:3
DTSTAMP:20260419T175535Z
URL:https://business.elkrapidschamber.org/events/details/community-potluck-at-ethanology-40403
END:VEVENT

END:VCALENDAR
