BEGIN:VCALENDAR
VERSION:2.0
PRODID:-//ChamberMaster//Event Calendar 2.0//EN
METHOD:PUBLISH
X-PUBLISHED-TTL:P3D
REFRESH-INTERVAL:P3D
CALSCALE:GREGORIAN
BEGIN:VEVENT
DTSTART:20190814T230000Z
DTEND:20190815T003000Z
X-MICROSOFT-CDO-ALLDAYEVENT:FALSE
SUMMARY:Community Paddle
DESCRIPTION:Grab your paddleboard\, kayak or paddle craft of choice and join Paddle Antrim for an amazing evening paddle on the Intermediate River as a lead up to Bellaire's Rubber Ducky Festival & Race. This hour long slow paddle will begin at Bellaire's Intermediate River at 7:00 pm to check in and we will launch promptly as a group at 7:15 pm. Paddle Antrim encourage all ages and types of paddle crafts to join us on the water for these slow paddles. These paddles last approximately one hour on the water\, are free\, and no pre-registration is required. All paddlers must bring their own craft/boat\, paddle\, and pfd (life jacket). As with all Paddle Antrim events\, pfds must be properly worn at all times. All ages are welcome but children under 18 must be accompanied by an adult out on the water.
X-ALT-DESC;FMTTYPE=text/html:<span style="display: inline !important\; float: none\; background-color: transparent\; color: rgb(29\, 33\, 41)\; font-family: Helvetica\,Arial\,sans-serif\; font-size: 14px\; font-style: normal\; font-variant: normal\; font-weight: 400\; letter-spacing: normal\; orphans: 2\; text-align: left\; text-decoration: none\; text-indent: 0px\; text-transform: none\; -webkit-text-stroke-width: 0px\; white-space: pre-wrap\; word-spacing: 0px\;">Grab your paddleboard\, kayak or paddle craft of choice and join Paddle Antrim for an amazing evening paddle on the Intermediate River as a lead up to Bellaire&rsquo\;s Rubber Ducky Festival &amp\; Race. This hour long slow paddle will begin at Bellaire&rsquo\;s Intermediate River at 7:00 pm to check in and we will launch promptly as a group at 7:15 pm. Paddle Antrim encourage all ages and types of paddle crafts to join us on the water for these slow paddles. These paddles last approximately one hour on the water\, are free\, and no pre-registration is required. All paddlers must bring their own craft/boat\, paddle\, and pfd (life jacket). As with all Paddle Antrim events\, pfds must be properly worn at all times. All ages are welcome but children under 18 must be accompanied by an adult out on the water.</span>
LOCATION:Richardi Park\, Bellaire
UID:e.2409.18451
SEQUENCE:3
DTSTAMP:20260424T064311Z
URL:https://business.elkrapidschamber.org/events/details/community-paddle-18451
END:VEVENT

END:VCALENDAR
