BEGIN:VCALENDAR
VERSION:2.0
PRODID:-//ChamberMaster//Event Calendar 2.0//EN
METHOD:PUBLISH
X-PUBLISHED-TTL:P3D
REFRESH-INTERVAL:P3D
CALSCALE:GREGORIAN
BEGIN:VEVENT
DTSTART:20190427T140000Z
DTEND:20190427T160000Z
X-MICROSOFT-CDO-ALLDAYEVENT:FALSE
SUMMARY:Community Hike
DESCRIPTION:The Elk Rapids District Library and Green E.R. invite families and friends of all ages to a Community Hike at the Maple Bay Natural Area\, (US 31 N across from the sunflower fields\, about half way through the passing lane) on Saturday\, April 27th at 10 a.m. Meet at the parking area and enjoy a stroll through the woods to the beach. There will be opportunities for people of all ages to  explore nature using their 5 senses. Please bring water and snacks\, if you need them. Dogs who are kid-friendly and on leashes are welcome\, too. Please call the library at (231)264-9979 for more information.
X-ALT-DESC;FMTTYPE=text/html:<span style="display: inline !important\; float: none\; background-color: transparent\; color: rgb(29\, 34\, 40)\; font-family: Helvetica Neue\,Helvetica\,Arial\,sans-serif\; font-size: 13px\; font-style: normal\; font-variant: normal\; font-weight: 400\; letter-spacing: normal\; line-height: normal\; orphans: 2\; text-align: left\; text-decoration: none\; text-indent: 0px\; text-transform: none\; -webkit-text-stroke-width: 0px\; white-space: normal\; word-spacing: 0px\; word-wrap: break-word\;">The Elk Rapids District Library and Green E.R. invite families and friends of all ages to a </span><strong style="background-color: transparent\; color: rgb(29\, 34\, 40)\; font-family: Helvetica Neue\,Helvetica\,Arial\,sans-serif\; font-size: 13px\; font-style: normal\; font-variant: normal\; font-weight: 700\; letter-spacing: normal\; line-height: normal\; orphans: 2\; overflow-x: visible\; padding-bottom: 0px\; padding-left: 0px\; padding-right: 0px\; padding-top: 0px\; text-align: left\; text-decoration: none\; text-indent: 0px\; text-transform: none\; -webkit-text-stroke-width: 0px\; white-space: normal\; word-spacing: 0px\; word-wrap: break-word\;"><em style="font-family: Helvetica Neue\,Helvetica\,Arial\,sans-serif\; line-height: normal\; overflow-x: visible\; padding-bottom: 0px\; padding-left: 0px\; padding-right: 0px\; padding-top: 0px\; word-wrap: break-word\;">Community Hike</em></strong><span style="display: inline !important\; float: none\; background-color: transparent\; color: rgb(29\, 34\, 40)\; font-family: Helvetica Neue\,Helvetica\,Arial\,sans-serif\; font-size: 13px\; font-style: normal\; font-variant: normal\; font-weight: 400\; letter-spacing: normal\; line-height: normal\; orphans: 2\; text-align: left\; text-decoration: none\; text-indent: 0px\; text-transform: none\; -webkit-text-stroke-width: 0px\; white-space: normal\; word-spacing: 0px\; word-wrap: break-word\;"> at the Maple Bay Natural Area\, (US 31 N across from the sunflower fields\, about half way through the passing lane) on Saturday\, April 27th at 10 a.m. Meet at the parking area and enjoy a stroll through the woods to the beach. There will be opportunities for people of all ages to&nbsp\; explore nature using their 5 senses. Please bring water and snacks\, if you need them. Dogs who are kid-friendly and on leashes are welcome\, too. Please call the library at (231)264-9979 for more information.&nbsp\;&nbsp\;&nbsp\;&nbsp\;</span>
LOCATION:Maple Bay Natural Area US 31 N acros from the sunflower fields\, about half way through the passing lane.
UID:e.2409.18479
SEQUENCE:3
DTSTAMP:20260425T221526Z
URL:https://business.elkrapidschamber.org/events/details/community-hike-18479
END:VEVENT

END:VCALENDAR
