BEGIN:VCALENDAR
VERSION:2.0
PRODID:-//ChamberMaster//Event Calendar 2.0//EN
METHOD:PUBLISH
X-PUBLISHED-TTL:P3D
REFRESH-INTERVAL:P3D
CALSCALE:GREGORIAN
BEGIN:VEVENT
DTSTART:20190313T210000Z
DTEND:20190313T223000Z
X-MICROSOFT-CDO-ALLDAYEVENT:FALSE
SUMMARY:Community Dinner
DESCRIPTION:Community Dinner. Menu: Baked Ham\, Potato\, Vegetable\, Roll\, Dessert\n\nTake-out dinners available. No charge but a free will offering will be accepted to defray costs.
X-ALT-DESC;FMTTYPE=text/html:Community Dinner. Menu: Baked Ham\, Potato\, Vegetable\, Roll\, Dessert<br />\nTake-out dinners available. No charge but a free will offering will be accepted to defray costs.
LOCATION:St. Paul's Episcopal Church
UID:e.2409.18336
SEQUENCE:3
DTSTAMP:20260425T221317Z
URL:https://business.elkrapidschamber.org/events/details/community-dinner-18336
END:VEVENT

END:VCALENDAR
