BEGIN:VCALENDAR
VERSION:2.0
PRODID:-//ChamberMaster//Event Calendar 2.0//EN
METHOD:PUBLISH
X-PUBLISHED-TTL:P3D
REFRESH-INTERVAL:P3D
CALSCALE:GREGORIAN
BEGIN:VEVENT
DTSTART:20201023T130000Z
DTEND:20201023T190000Z
X-MICROSOFT-CDO-ALLDAYEVENT:FALSE
SUMMARY:Community Blood Drive
DESCRIPTION:Hosted by the ER Rotary Club and ER High School\n\nHealthy donors are encourage to attend \n\nAppointments preferred and Walk ins welcome\n\nFor an appointment\, please call 1-866-642-5663 or visit:\n\nwww.versiti.org.Mi
X-ALT-DESC;FMTTYPE=text/html:Hosted by the ER Rotary Club and ER High School<br />\nHealthy donors are encourage to attend&nbsp\;<br />\nAppointments preferred and Walk ins welcome<br />\nFor an appointment\, please call 1-866-642-5663 or visit:<br />\nwww.versiti.org.Mi
LOCATION:ER Government Center 315 Bridge Street Elk Rapids
UID:e.2409.24111
SEQUENCE:3
DTSTAMP:20260422T025157Z
URL:https://business.elkrapidschamber.org/events/details/community-blood-drive-24111
END:VEVENT

END:VCALENDAR
