BEGIN:VCALENDAR
VERSION:2.0
PRODID:-//ChamberMaster//Event Calendar 2.0//EN
METHOD:PUBLISH
X-PUBLISHED-TTL:P3D
REFRESH-INTERVAL:P3D
CALSCALE:GREGORIAN
BEGIN:VEVENT
DTSTART:20230630T180000Z
DTEND:20230630T200000Z
X-MICROSOFT-CDO-ALLDAYEVENT:FALSE
SUMMARY:Comedy Magician & Entertainer-Cameron Svara
DESCRIPTION:Join us for an afternoon of FUN. Cameron's show is filled with mind blowing magic\, comedy\, juggling\, music\, and TONS of audience participation. You do not want to miss out!" This is a Free Event. Sponsored by Alden District Library and held at Helena Township Community Center\, 8751 Helena Rd\, Alden\, 231-331-4318.
X-ALT-DESC;FMTTYPE=text/html:<span style="color: rgb(44\, 54\, 58)\; font-family: Verdana\, Geneva\, sans-serif\; font-size: 13.3333px\; background-color: rgb(255\, 255\, 255)\;">Join us for an afternoon of FUN. Cameron&#39\;s show is filled with mind blowing magic\, comedy\, juggling\, music\, and TONS of audience participation. You do not want to miss out!&quot\; This is a Free Event. Sponsored by Alden District Library and held at Helena Township Community Center\, 8751 Helena Rd\, Alden\, 231-331-4318.</span>
LOCATION:
UID:e.2409.37868
SEQUENCE:3
DTSTAMP:20260420T010407Z
URL:https://business.elkrapidschamber.org/events/details/comedy-magician-entertainer-cameron-svara-37868
END:VEVENT

END:VCALENDAR
