BEGIN:VCALENDAR
VERSION:2.0
PRODID:-//ChamberMaster//Event Calendar 2.0//EN
METHOD:PUBLISH
X-PUBLISHED-TTL:P3D
REFRESH-INTERVAL:P3D
CALSCALE:GREGORIAN
BEGIN:VEVENT
DTSTART:20230414T130000Z
DTEND:20230414T160000Z
X-MICROSOFT-CDO-ALLDAYEVENT:FALSE
SUMMARY:"Colorful Paper Collage" art workshop with Sheri
DESCRIPTION:We all have an inner artist - and in this workshop\, you will have the opportunity to get to know that part of you. No drawing or painting experience necessary. Just cut and tear colorful and patterned paper to make a beautiful collage on canvas. Come prepared with Ideas before the workshop by searching for "paper collage ideas" online.
X-ALT-DESC;FMTTYPE=text/html:<span style="background-color:rgb(250\, 250\, 250)\; color:rgb(0\, 0\, 0)\; font-family:arial\,helvetica">We all have an inner artist - and in this workshop\, you will have the opportunity to get to know that part of you. No drawing or painting experience necessary.&nbsp\;Just cut and tear colorful and patterned paper to make a beautiful collage on canvas. Come prepared with Ideas before the workshop by searching for &quot\;paper collage ideas&quot\; online.</span>
LOCATION:Art&Connection 965 Green St. Elk Rapids\, MI 49629
UID:e.2409.36389
SEQUENCE:3
DTSTAMP:20260420T052657Z
URL:https://business.elkrapidschamber.org/events/details/colorful-paper-collage-art-workshop-with-sheri-36389
END:VEVENT

END:VCALENDAR
