BEGIN:VCALENDAR
VERSION:2.0
PRODID:-//ChamberMaster//Event Calendar 2.0//EN
METHOD:PUBLISH
X-PUBLISHED-TTL:P3D
REFRESH-INTERVAL:P3D
CALSCALE:GREGORIAN
BEGIN:VEVENT
DTSTART:20190531T210000Z
DTEND:20190531T230000Z
X-MICROSOFT-CDO-ALLDAYEVENT:FALSE
SUMMARY:Color Splash FUNDrun
DESCRIPTION:The students of Cherryland Middle School SLAM Group will host the inaugural community wide Color Splash FUNDrun by Get Active Fundraising on 05/31/19 at 5:00pm to raise money for their school. The Color Splash FUNDrun is an untimed 5K fun run for all ages and fitness abilities. Walk\, jog\, or run to the finish line! \n\nAlong the route\, participants pass through vibrant color zones\, making it a "colorful experience." This event is fun for all ages and a great way to make running fun and exciting!\n\nAdditionally\, during the race\, participants are doused with color at various color stations ending with one final color celebration at the finish line.\n\n"Rather than sell goods\, we want to engage the entire student body in a fitness initiative that aims to encourage a life-long healthy way of living\," says Ann DeVogel & Dana Shepherd. Participants that register by 05/17/19 will receive a t-shirt\, race bib\, and individual color packet.\n\nYou can sign up for the run by completing a paper registration form. Contact Ann DeVogel or Dana Shepherd   231-264-8991 for more information and to get needed form\n\nBusiness sponsorship opportunities are also available. This is a great way to promote for any business and support your community. Please contact the event organizer for more information.
X-ALT-DESC;FMTTYPE=text/html:<div align="center" style="color: rgb(0\, 0\, 0)\; font-family: Arial\,Verdana\,Helvetica\,sans-serif\; font-size: 14px\; font-style: normal\; font-variant: normal\; font-weight: 400\; letter-spacing: normal\; orphans: 2\; text-align: center\; text-decoration: none\; text-indent: 0px\; text-transform: none\; -webkit-text-stroke-width: 0px\; white-space: normal\; word-spacing: 0px\;"><span style="color: rgb(0\, 0\, 0)\; font-family: Arial\,Verdana\,Helvetica\,sans-serif\; font-size: 12px\; font-weight: bold\;">The students of Cherryland Middle School SLAM Group will host the inaugural community wide Color Splash FUNDrun by Get Active Fundraising on 05/31/19 at 5:00pm to raise money for their school. The Color Splash FUNDrun is an untimed 5K fun run for all ages and fitness abilities. Walk\, jog\, or run to the finish line! </span><br />\n<span style="color: rgb(0\, 0\, 0)\; font-family: Arial\,Verdana\,Helvetica\,sans-serif\; font-size: 12px\; font-weight: bold\;">Along the route\, participants pass through vibrant color zones\, making it a &quot\;colorful experience.&quot\; This event is fun for all ages and a great way to make running fun and exciting!<br />\nAdditionally\, during the race\, participants are doused with color at various color stations ending with one final color celebration at the finish line.<br />\n&quot\;Rather than sell goods\, we want to engage the entire student body in a fitness initiative that aims to encourage a life-long healthy way of living\,&quot\; says Ann DeVogel &amp\; Dana Shepherd. Participants that register by 05/17/19 will receive a t-shirt\, race bib\, and individual color packet.<br />\nYou can sign up for the run by completing a paper registration form. Contact Ann DeVogel or Dana Shepherd &ndash\; 231-264-8991 for more information and to get needed form<br />\nBusiness sponsorship opportunities are also available. This is a great way to promote for any business and support your community. Please contact the event organizer for more information.</span></div>\n
LOCATION:Cherryland Middle School
UID:e.2409.19229
SEQUENCE:3
DTSTAMP:20260425T130126Z
URL:https://business.elkrapidschamber.org/events/details/color-splash-fundrun-19229
END:VEVENT

END:VCALENDAR
