BEGIN:VCALENDAR
VERSION:2.0
PRODID:-//ChamberMaster//Event Calendar 2.0//EN
METHOD:PUBLISH
X-PUBLISHED-TTL:P3D
REFRESH-INTERVAL:P3D
CALSCALE:GREGORIAN
BEGIN:VEVENT
DTSTART:20220601T220000Z
DTEND:20220601T233000Z
X-MICROSOFT-CDO-ALLDAYEVENT:FALSE
SUMMARY:Coffee with Village Council
DESCRIPTION:We look forward to hearing from community members on how to plan for our future!
X-ALT-DESC;FMTTYPE=text/html:We look forward to hearing from community members on how to plan for our future!
LOCATION:Harbor Pavilion 129 N Cedar St Elk Rapids MI 49629
UID:e.2409.29546
SEQUENCE:3
DTSTAMP:20260420T202544Z
URL:https://business.elkrapidschamber.org/events/details/coffee-with-village-council-29546
END:VEVENT

END:VCALENDAR
