BEGIN:VCALENDAR
VERSION:2.0
PRODID:-//ChamberMaster//Event Calendar 2.0//EN
METHOD:PUBLISH
X-PUBLISHED-TTL:P3D
REFRESH-INTERVAL:P3D
CALSCALE:GREGORIAN
BEGIN:VEVENT
DTSTART:20190715T223000Z
DTEND:20190716T003000Z
X-MICROSOFT-CDO-ALLDAYEVENT:FALSE
SUMMARY:Clutter Intervention
DESCRIPTION:Learn to Declutter: Simplify\, donate\, keep\, trash\, sell\, recycle\,sort...with a professional organizer Erin Simon from Clutter Funk.
X-ALT-DESC;FMTTYPE=text/html:Learn to Declutter: Simplify\, donate\, keep\, trash\, sell\, recycle\,sort...with a professional organizer Erin Simon from Clutter Funk.
LOCATION:The Lighthouse Community Center 503 Elm St. Elk Rapids\, MI 49629
UID:e.2409.20184
SEQUENCE:3
DTSTAMP:20260424T192047Z
URL:https://business.elkrapidschamber.org/events/details/clutter-intervention-20184
END:VEVENT

END:VCALENDAR
