BEGIN:VCALENDAR
VERSION:2.0
PRODID:-//ChamberMaster//Event Calendar 2.0//EN
METHOD:PUBLISH
X-PUBLISHED-TTL:P3D
REFRESH-INTERVAL:P3D
CALSCALE:GREGORIAN
BEGIN:VEVENT
DTSTART:20190606T230000Z
DTEND:20190607T010000Z
X-MICROSOFT-CDO-ALLDAYEVENT:FALSE
SUMMARY:"City Opera House"
DESCRIPTION:June 6\, 2019 Program at 7:00 p.m.\n\nAt The History Museum\n\n  301 Traverse Street (corner of Pine)\n\n"City Opera House"\n\nPresented by: Fred Anderson and Kristi Dockter  \n\nSeating limited to first 100 people to arrive \n\n   Admission by Donation
X-ALT-DESC;FMTTYPE=text/html:<div align="center" style="font-family: Arial\, Verdana\, Helvetica\, sans-serif\; font-size: 14px\; background-color: rgb(248\, 245\, 149)\; text-align: center\;"><span style="font-size: 28px\; color: rgb(255\, 0\, 0)\; font-weight: bold\;">June 6\, 2019&nbsp\;Program at 7:00 p.m.</span></div>\n\n<div align="center" style="font-family: Arial\, Verdana\, Helvetica\, sans-serif\; font-size: 14px\; background-color: rgb(248\, 245\, 149)\; text-align: center\;"><span style="font-size: 22px\; color: rgb(0\, 0\, 255)\;">At The History Museum</span></div>\n\n<div align="center" style="font-family: Arial\, Verdana\, Helvetica\, sans-serif\; font-size: 14px\; background-color: rgb(248\, 245\, 149)\; text-align: center\;"><span style="font-size: 22px\; color: rgb(0\, 0\, 255)\;">&nbsp\;&nbsp\;301 Traverse Street (corner of Pine)</span></div>\n\n<div align="center" style="font-family: Arial\, Verdana\, Helvetica\, sans-serif\; font-size: 14px\; background-color: rgb(248\, 245\, 149)\; text-align: center\;"><span style="font-size: 48px\; color: rgb(0\, 0\, 255)\;">&quot\;City Opera House&quot\;</span></div>\n\n<div align="center" style="font-family: Arial\, Verdana\, Helvetica\, sans-serif\; font-size: 14px\; background-color: rgb(248\, 245\, 149)\; text-align: center\;"><span style="font-size: 20px\; color: rgb(255\, 0\, 0)\; font-weight: bold\;">Presented by:&nbsp\;Fred Anderson&nbsp\;and Kristi Dockter&nbsp\;&nbsp\;</span></div>\n\n<div align="center" style="font-family: Arial\, Verdana\, Helvetica\, sans-serif\; font-size: 14px\; background-color: rgb(248\, 245\, 149)\; text-align: center\;"><span style="font-size: 20px\; color: rgb(255\, 0\, 0)\; font-weight: bold\;">Seating limited to first 100 people to arrive&nbsp\;</span></div>\n\n<div align="center" style="font-family: Arial\, Verdana\, Helvetica\, sans-serif\; font-size: 14px\; background-color: rgb(248\, 245\, 149)\; text-align: center\;"><span style="font-size: 20px\; color: rgb(255\, 0\, 0)\; font-weight: bold\;">&nbsp\;&nbsp\;&nbsp\;Admission by Donation</span></div>\n
LOCATION:The History Museum 301 Traverse Street (Corner of Pine)
UID:e.2409.19992
SEQUENCE:3
DTSTAMP:20260426T040427Z
URL:https://business.elkrapidschamber.org/events/details/city-opera-house-19992
END:VEVENT

END:VCALENDAR
