BEGIN:VCALENDAR
VERSION:2.0
PRODID:-//ChamberMaster//Event Calendar 2.0//EN
METHOD:PUBLISH
X-PUBLISHED-TTL:P3D
REFRESH-INTERVAL:P3D
CALSCALE:GREGORIAN
BEGIN:VEVENT
DTSTART:20190706T140000Z
DTEND:20190706T220000Z
X-MICROSOFT-CDO-ALLDAYEVENT:FALSE
SUMMARY:Christmas in July
DESCRIPTION:The Salvation Army of Petoskey is ringing bells to raise money for Antrim\, Charlevoix\, and Emmet County residents in need. Proceeds help struggling individuals and families with food\, electricity\, child care and many other needs. People need help year round\, not just during the holidays. PLEASE GIVE by placing donations in our Red Kettles on Saturday\, July 6\, 2019 from\n\n10:00 a.m. to 6:00 p.m\, by visiting SAPetoskey.org\, or by texting SAPET to 41444. Thank you for supporting local families in need!\n\nWE NEED BELL-RINGERS! PLEASE CALL (231) 347-3531 X1003 . TO VOLUNTEER: https://centralusa.salvationarmy.org/Petoskey/events/christmas-in-july
X-ALT-DESC;FMTTYPE=text/html:<div>\n<div style="font-family: Arial\, Verdana\, Helvetica\, sans-serif\; font-size: 14px\; background-color: rgb(255\, 255\, 255)\;"><span style="font-weight: bold\;">The Salvation Army of Petoskey is ringing bells to raise money for Antrim\,&nbsp\;Charlevoix\, and&nbsp\;Emmet County&nbsp\;residents&nbsp\;in need. Proceeds help struggling individuals and families with food\, electricity\, child care and many other needs. People need help year round\, not just during the holidays.&nbsp\;PLEASE GIVE&nbsp\;by placing donations in our Red Kettles on&nbsp\;Saturday\, July 6\, 2019 from</span></div>\n\n<div align="center" style="font-family: Arial\, Verdana\, Helvetica\, sans-serif\; font-size: 14px\; background-color: rgb(255\, 255\, 255)\; text-align: center\;"><span style="font-weight: bold\;">10:00 a.m. to 6:00 p.m\, by visiting&nbsp\;</span><a href="http://r20.rs6.net/tn.jsp?f=001yGIBlPx5JQdJ2iakO06RN7v4ISDA3valEuVME0JV-HqTQ6sSBnhy6ey7p6IhY-FBZiUDBGrGF9bRymPzZXBpesB7behq_7UCMNgdMehUt6BC18TtETAS-2Bd4YRfi9-vSYZa6CBapLR9NZcyeLlWtg==&amp\;c=7QwZ1zRX3B7dMM8A_pDKGf8Jgyq2PwjSeDyoAllj4pd2MPTcxbnBwg==&amp\;ch=eWc2tPnkqCYY1_MIBmECFKt9FG3KH4nRRaE10CPpNA5MyhEvXxHDcA==" rel="nofollow" style="color: rgb(0\, 0\, 204)\; font-weight: bold\; font-family: &quot\;Lucida Sans Unicode&quot\;\, &quot\;Lucida Grande&quot\;\, sans-serif\;" target="_blank">SAPetoskey.org</a><span style="font-weight: bold\;">\, or by texting&nbsp\;SAPET to 41444. Thank you for supporting local families in need!</span></div>\n\n<div style="font-family: Arial\, Verdana\, Helvetica\, sans-serif\; font-size: 14px\; background-color: rgb(255\, 255\, 255)\;"><span style="font-weight: bold\;">WE NEED BELL-RINGERS!&nbsp\;PLEASE CALL (231) 347-3531 X1003&nbsp\;. TO VOLUNTEER:&nbsp\;</span><a href="http://r20.rs6.net/tn.jsp?f=001yGIBlPx5JQdJ2iakO06RN7v4ISDA3valEuVME0JV-HqTQ6sSBnhy6Tm9jqC4gnk-TSgiPF2XS_HIQUmpC6QlfPeLSoIq88RRGwAqVNHqSMp5pEF9gA9EgqxJtzmaE12QVeYrAckwKWBRKgMgQarG9TXSK884EIIiDaJO1BZghquXTPb0c4huCMSekDW00Q6At-gg3LmBCOi2_GEzpe-99w==&amp\;c=7QwZ1zRX3B7dMM8A_pDKGf8Jgyq2PwjSeDyoAllj4pd2MPTcxbnBwg==&amp\;ch=eWc2tPnkqCYY1_MIBmECFKt9FG3KH4nRRaE10CPpNA5MyhEvXxHDcA==" rel="nofollow" style="color: rgb(0\, 0\, 204)\; font-weight: bold\; font-family: &quot\;Lucida Sans Unicode&quot\;\, &quot\;Lucida Grande&quot\;\, sans-serif\;" target="_blank">https://centralusa.salvationarmy.org/Petoskey/events/christmas-in-july</a><span style="font-weight: bold\; font-family: &quot\;Lucida Sans Unicode&quot\;\, &quot\;Lucida Grande&quot\;\, sans-serif\;">&nbsp\;</span></div>\n</div>\n
LOCATION:
UID:e.2409.20185
SEQUENCE:3
DTSTAMP:20260424T204143Z
URL:https://business.elkrapidschamber.org/events/details/christmas-in-july-20185
END:VEVENT

END:VCALENDAR
