BEGIN:VCALENDAR
VERSION:2.0
PRODID:-//ChamberMaster//Event Calendar 2.0//EN
METHOD:PUBLISH
X-PUBLISHED-TTL:P3D
REFRESH-INTERVAL:P3D
CALSCALE:GREGORIAN
BEGIN:VEVENT
DTSTART:20191224T170000Z
DTEND:20191224T220000Z
X-MICROSOFT-CDO-ALLDAYEVENT:FALSE
SUMMARY:Christmas Eve at Townline
DESCRIPTION:Our Christmas Eve @ Townline service has become a tradition that we would love to continue! However\, we are in need of someone who would like to play and/or sing some traditional hymns or oversee the music for the service. And with Sheila moving out of town\, we may be looking for someone to preside over the service as well! Please reach out if you're interested in helping out!
X-ALT-DESC;FMTTYPE=text/html:<span style="color: rgba(82\, 82\, 82\, 0.6)\; font-family: proxima-nova\; font-size: 13px\; letter-spacing: 0.26px\; white-space: pre-wrap\; background-color: rgb(255\, 255\, 255)\;">Our Christmas Eve @ Townline service has become a tradition that we would love to continue! However\, we are in need of someone who would like to play and/or sing some traditional hymns or oversee the music for the service. And with Sheila moving out of town\, we may be looking for someone to preside over the service as well! Please reach out if you&rsquo\;re interested in helping out! </span>
LOCATION:Townline Ciderworks
UID:e.2409.20617
SEQUENCE:3
DTSTAMP:20260419T140805Z
URL:https://business.elkrapidschamber.org/events/details/christmas-eve-at-townline-20617
END:VEVENT

END:VCALENDAR
