BEGIN:VCALENDAR
VERSION:2.0
PRODID:-//ChamberMaster//Event Calendar 2.0//EN
METHOD:PUBLISH
X-PUBLISHED-TTL:P3D
REFRESH-INTERVAL:P3D
CALSCALE:GREGORIAN
BEGIN:VEVENT
DTSTART:20191215T180000Z
DTEND:20191215T210000Z
X-MICROSOFT-CDO-ALLDAYEVENT:FALSE
SUMMARY:Christmas Cookie Decorating & Bake Sale
DESCRIPTION:Come and decorate some Christmas Cookies with your family or friends.  Cookies\, frosting\, and decorations will be supplies.  There will also be other delicious baked goods for sale that you can purchase for the holiday.  All proceeds will go to benefit Child Welfare and Community Service projects through the Ladies Auxiliary.
X-ALT-DESC;FMTTYPE=text/html:Come and decorate some Christmas Cookies with your family or friends.&nbsp\; Cookies\, frosting\, and decorations will be supplies.&nbsp\; There will also be other delicious baked goods for sale that you can purchase for the holiday.&nbsp\; All proceeds will go to benefit Child Welfare and Community Service projects through the Ladies Auxiliary.
LOCATION:Amvets Post #114\, 410 Bridge St. Elk Rapids
UID:e.2409.22428
SEQUENCE:3
DTSTAMP:20260419T140636Z
URL:https://business.elkrapidschamber.org/events/details/christmas-cookie-decorating-bake-sale-22428
END:VEVENT

END:VCALENDAR
